BEGIN:VCALENDAR
VERSION:2.0
PRODID:-//Greater Cedar Rapids Community Foundation - ECPv6.15.20//NONSGML v1.0//EN
CALSCALE:GREGORIAN
METHOD:PUBLISH
X-ORIGINAL-URL:https://www.gcrcf.org
X-WR-CALDESC:Events for Greater Cedar Rapids Community Foundation
REFRESH-INTERVAL;VALUE=DURATION:PT1H
X-Robots-Tag:noindex
X-PUBLISHED-TTL:PT1H
BEGIN:VTIMEZONE
TZID:America/Chicago
BEGIN:DAYLIGHT
TZOFFSETFROM:-0600
TZOFFSETTO:-0500
TZNAME:CDT
DTSTART:20240310T080000
END:DAYLIGHT
BEGIN:STANDARD
TZOFFSETFROM:-0500
TZOFFSETTO:-0600
TZNAME:CST
DTSTART:20241103T070000
END:STANDARD
BEGIN:DAYLIGHT
TZOFFSETFROM:-0600
TZOFFSETTO:-0500
TZNAME:CDT
DTSTART:20250309T080000
END:DAYLIGHT
BEGIN:STANDARD
TZOFFSETFROM:-0500
TZOFFSETTO:-0600
TZNAME:CST
DTSTART:20251102T070000
END:STANDARD
BEGIN:DAYLIGHT
TZOFFSETFROM:-0600
TZOFFSETTO:-0500
TZNAME:CDT
DTSTART:20260308T080000
END:DAYLIGHT
BEGIN:STANDARD
TZOFFSETFROM:-0500
TZOFFSETTO:-0600
TZNAME:CST
DTSTART:20261101T070000
END:STANDARD
END:VTIMEZONE
BEGIN:VEVENT
DTSTART;TZID=America/Chicago:20250415T120000
DTEND;TZID=America/Chicago:20250415T130000
DTSTAMP:20260419T091751
CREATED:20250324T163927Z
LAST-MODIFIED:20250324T163942Z
UID:10003054-1744718400-1744722000@www.gcrcf.org
SUMMARY:State of the District Luncheon
DESCRIPTION:Once a year\, The District: Czech Village & New Bohemia likes to invite members of the community for a luncheon as a celebration of progress. This event highlights the achievements of our District businesses\, local organizations dedicated to place-making\, and highlight our future projects!\n\nThe Robert Chadima Visionary Awards take place during the luncheon and two community members are honored for their dedication to bettering The District through an innovative and selfless lens.\n\nDoors open at 11:30 AM. Program begins at noon. Lunch will be served.
URL:https://www.gcrcf.org/event/state-of-the-district-luncheon/
LOCATION:The Olympic South Side Theater\, 1202 3rd St SE #200\, Cedar Rapids\, IA\, 52401\, United States
CATEGORIES:Nonprofit Calendar
END:VEVENT
BEGIN:VEVENT
DTSTART;TZID=America/Chicago:20250418T180000
DTEND;TZID=America/Chicago:20250418T203000
DTSTAMP:20260419T091751
CREATED:20240626T000322Z
LAST-MODIFIED:20250108T203520Z
UID:10003003-1744999200-1745008200@www.gcrcf.org
SUMMARY:Literary Vines: A Wine & Beer Tasting to Benefit the Library Foundation
DESCRIPTION:Join us on Friday\, April 18 for an enchanting evening of literature-inspired tasting tables\, a mobile auction\, live music\, and more. Our event features hand-picked selections of wine and locally crafted beer thoughtfully paired with heavy hors d’oeurves.\n\nThroughout the evening\, enjoy live entertainment and participate in our mobile auction\, offering an array of exclusive packages and experiences. All proceeds from Literary Vines support the Foundation and Foundation-funded Library programs\, including Dolly Parton’s Imagination Library.\n\nWe invite you for an unforgettable celebration of stories\, flavors\, and community!
URL:https://www.gcrcf.org/event/literary-vines-a-wine-beer-tasting-to-benefit-the-library-foundation-2/
LOCATION:Cedar Rapids Public Library\, 450 5th Ave SE\, Cedar Rapids\, IA\, 52401\, United States
CATEGORIES:Nonprofit Calendar
ATTACH;FMTTYPE=image/png:https://www.gcrcf.org/wp-content/uploads/2024/06/Literary-vines-logo-4-color-No-Date.png
ORGANIZER;CN="Cedar Rapids Public LIbrary Foundation":MAILTO:Foundation@CRLibrary.org
END:VEVENT
END:VCALENDAR