BEGIN:VCALENDAR
VERSION:2.0
PRODID:-//Greater Cedar Rapids Community Foundation - ECPv6.15.20//NONSGML v1.0//EN
CALSCALE:GREGORIAN
METHOD:PUBLISH
X-WR-CALNAME:Greater Cedar Rapids Community Foundation
X-ORIGINAL-URL:https://www.gcrcf.org
X-WR-CALDESC:Events for Greater Cedar Rapids Community Foundation
REFRESH-INTERVAL;VALUE=DURATION:PT1H
X-Robots-Tag:noindex
X-PUBLISHED-TTL:PT1H
BEGIN:VTIMEZONE
TZID:America/Chicago
BEGIN:DAYLIGHT
TZOFFSETFROM:-0600
TZOFFSETTO:-0500
TZNAME:CDT
DTSTART:20240310T080000
END:DAYLIGHT
BEGIN:STANDARD
TZOFFSETFROM:-0500
TZOFFSETTO:-0600
TZNAME:CST
DTSTART:20241103T070000
END:STANDARD
BEGIN:DAYLIGHT
TZOFFSETFROM:-0600
TZOFFSETTO:-0500
TZNAME:CDT
DTSTART:20250309T080000
END:DAYLIGHT
BEGIN:STANDARD
TZOFFSETFROM:-0500
TZOFFSETTO:-0600
TZNAME:CST
DTSTART:20251102T070000
END:STANDARD
BEGIN:DAYLIGHT
TZOFFSETFROM:-0600
TZOFFSETTO:-0500
TZNAME:CDT
DTSTART:20260308T080000
END:DAYLIGHT
BEGIN:STANDARD
TZOFFSETFROM:-0500
TZOFFSETTO:-0600
TZNAME:CST
DTSTART:20261101T070000
END:STANDARD
END:VTIMEZONE
BEGIN:VEVENT
DTSTART;TZID=America/Chicago:20250328T173000
DTEND;TZID=America/Chicago:20250328T193000
DTSTAMP:20260421T065255
CREATED:20250306T222659Z
LAST-MODIFIED:20250306T222757Z
UID:10003052-1743183000-1743190200@www.gcrcf.org
SUMMARY:Open House
DESCRIPTION:Come check out our new space! We have been hard at work transforming the old Arthur School Elementary School building into the NEW Eastern Iowa Arts Academy\, and we can’t wait to show you the awesomeness! If you are curious about our space\, us\, or just love the arts\, come on by!
URL:https://www.gcrcf.org/event/open-house/
LOCATION:Eastern Iowa Arts Academy\, 2630 B Avenue\, Cedar Rapids\, IA\, 52402\, United States
CATEGORIES:Nonprofit Calendar
ATTACH;FMTTYPE=image/jpeg:https://www.gcrcf.org/wp-content/uploads/2025/03/476978957_1083804120427521_471006914759173970_n-2.jpg
ORGANIZER;CN="Eastern Iowa Arts Academy":MAILTO:info@eiaaprogram.org
END:VEVENT
BEGIN:VEVENT
DTSTART;TZID=America/Chicago:20250329T080000
DTEND;TZID=America/Chicago:20250329T100000
DTSTAMP:20260421T065255
CREATED:20240223T143925Z
LAST-MODIFIED:20250210T215027Z
UID:10001469-1743235200-1743242400@www.gcrcf.org
SUMMARY:2025 Arc March
DESCRIPTION:Join us at the 28th Annual Arc March!\n\nWe are walking once again in support of our Arc participants and their families. Our 1st goal is to raise $42\,000 to help bridge funding gaps in our programs and services. Our 2nd goal is to fill the Lindale Mall Food Court with enthusiastic friends and supporters as we continue to raise awareness about intellectual and developmental disabilities. Invite your friends\, family and co-workers to walk with you.\n  \n\nThe Arc March will be held at the Lindale Mall Food Court from 8:00 – 10:00 AM on Saturday\, March 29th.\n  \n\nClick on the link to get started fundraising or just donate. https://secure.qgiv.com/event/2025arcmarch/\n\n  \nOnce on the official Arc March website\, you will see two buttons: \n– Register For This Event – use this button to register yourself or a team. Once your team is created you can invite friends and family to join you and compete for fundraising prizes.\n– Donate Now – use this button because you want to donate to a great cause. We are grateful for your generosity!\n\nT-shirts\n\nThe deadline for t-shirts is March 9th. In order to guarantee a t-shirt your registration must be received by this date. The registration\, including a t-shirt\, is $15.00 for youth and $20.00 for adults.\n\nEarn Prizes\n\nPrizes will be awarded for the top three fundraisers and anyone raising $1\,000 or more!\n \n\nStart your fundraising page or team today! Click on the link above to get started. Your fundraising efforts truly make a difference!\n\n\nSaturday\, March 29th\nLindale Mall Food Court\n8:00 AM – Activities Start    |   9:30 AM – Walk Begins
URL:https://www.gcrcf.org/event/2024-arc-march/
LOCATION:Lindale Mall\, 4444 1st Ave NE\, Cedar Rapids\, Iowa\, 52402
CATEGORIES:Nonprofit Calendar
ATTACH;FMTTYPE=image/jpeg:https://www.gcrcf.org/wp-content/uploads/2024/02/Facebook-event-image-01-1.jpg
END:VEVENT
END:VCALENDAR