BEGIN:VCALENDAR
VERSION:2.0
PRODID:-//Greater Cedar Rapids Community Foundation - ECPv6.15.20//NONSGML v1.0//EN
CALSCALE:GREGORIAN
METHOD:PUBLISH
X-ORIGINAL-URL:https://www.gcrcf.org
X-WR-CALDESC:Events for Greater Cedar Rapids Community Foundation
REFRESH-INTERVAL;VALUE=DURATION:PT1H
X-Robots-Tag:noindex
X-PUBLISHED-TTL:PT1H
BEGIN:VTIMEZONE
TZID:America/Chicago
BEGIN:DAYLIGHT
TZOFFSETFROM:-0600
TZOFFSETTO:-0500
TZNAME:CDT
DTSTART:20230312T080000
END:DAYLIGHT
BEGIN:STANDARD
TZOFFSETFROM:-0500
TZOFFSETTO:-0600
TZNAME:CST
DTSTART:20231105T070000
END:STANDARD
BEGIN:DAYLIGHT
TZOFFSETFROM:-0600
TZOFFSETTO:-0500
TZNAME:CDT
DTSTART:20240310T080000
END:DAYLIGHT
BEGIN:STANDARD
TZOFFSETFROM:-0500
TZOFFSETTO:-0600
TZNAME:CST
DTSTART:20241103T070000
END:STANDARD
BEGIN:DAYLIGHT
TZOFFSETFROM:-0600
TZOFFSETTO:-0500
TZNAME:CDT
DTSTART:20250309T080000
END:DAYLIGHT
BEGIN:STANDARD
TZOFFSETFROM:-0500
TZOFFSETTO:-0600
TZNAME:CST
DTSTART:20251102T070000
END:STANDARD
END:VTIMEZONE
BEGIN:VEVENT
DTSTART;TZID=America/Chicago:20241012T100000
DTEND;TZID=America/Chicago:20241012T143000
DTSTAMP:20260421T142807
CREATED:20240930T150210Z
LAST-MODIFIED:20240930T150225Z
UID:10003026-1728727200-1728743400@www.gcrcf.org
SUMMARY:9 PIN SCRATCH "LIKE A DOG" BOWLING TOURNAMENT FOR IOWA HUMANE ALLIANCE
DESCRIPTION:Colonial Lanes in Iowa City is hosting a bowling tournament to benefit\n\nIowa Humane Alliance. You can be part of this effort to “strike out pet overpopulation”\n\nby bowling as a team member or simply stopping by to participate in the raffles for prizes.
URL:https://www.gcrcf.org/event/9-pin-scratch-like-a-dog-bowling-tournament-for-iowa-humane-alliance/
LOCATION:Colonial Lanes\, 2253 Old Hwy 218 South\, Iowa City\, IA\, 52246\, United States
CATEGORIES:Nonprofit Calendar
ATTACH;FMTTYPE=image/jpeg:https://www.gcrcf.org/wp-content/uploads/2024/09/Bowling-Tournament-3-2.jpg
ORGANIZER;CN="Iowa Humane Alliace":MAILTO:info@iowahumanealliance.org
END:VEVENT
END:VCALENDAR