BEGIN:VCALENDAR
VERSION:2.0
PRODID:-//Greater Cedar Rapids Community Foundation - ECPv6.15.20//NONSGML v1.0//EN
CALSCALE:GREGORIAN
METHOD:PUBLISH
X-WR-CALNAME:Greater Cedar Rapids Community Foundation
X-ORIGINAL-URL:https://www.gcrcf.org
X-WR-CALDESC:Events for Greater Cedar Rapids Community Foundation
REFRESH-INTERVAL;VALUE=DURATION:PT1H
X-Robots-Tag:noindex
X-PUBLISHED-TTL:PT1H
BEGIN:VTIMEZONE
TZID:America/Chicago
BEGIN:DAYLIGHT
TZOFFSETFROM:-0600
TZOFFSETTO:-0500
TZNAME:CDT
DTSTART:20230312T080000
END:DAYLIGHT
BEGIN:STANDARD
TZOFFSETFROM:-0500
TZOFFSETTO:-0600
TZNAME:CST
DTSTART:20231105T070000
END:STANDARD
BEGIN:DAYLIGHT
TZOFFSETFROM:-0600
TZOFFSETTO:-0500
TZNAME:CDT
DTSTART:20240310T080000
END:DAYLIGHT
BEGIN:STANDARD
TZOFFSETFROM:-0500
TZOFFSETTO:-0600
TZNAME:CST
DTSTART:20241103T070000
END:STANDARD
BEGIN:DAYLIGHT
TZOFFSETFROM:-0600
TZOFFSETTO:-0500
TZNAME:CDT
DTSTART:20250309T080000
END:DAYLIGHT
BEGIN:STANDARD
TZOFFSETFROM:-0500
TZOFFSETTO:-0600
TZNAME:CST
DTSTART:20251102T070000
END:STANDARD
END:VTIMEZONE
BEGIN:VEVENT
DTSTART;TZID=America/Chicago:20240922T090000
DTEND;TZID=America/Chicago:20240922T110000
DTSTAMP:20260419T182330
CREATED:20240626T000435Z
LAST-MODIFIED:20240626T000441Z
UID:10003002-1726995600-1727002800@www.gcrcf.org
SUMMARY:Hiking for Housing
DESCRIPTION:Hiking for Housing is a community event dedicated to raising funds and awareness for Waypoint’s Housing Services. Join us for a hike up Mount Trashmore in Cedar Rapids and support our mission. By participating in this event\, you are helping to support and strengthen our community.\n \nWaypoint is a non-profit organization with a proud 130-year history of supporting the community. Our mission is to empower individuals to move forward in their lives. Each year\, Waypoint serves over 20\,000 people\, offering vital assistance and resources.\n \n\nTrail options\nYou will choose between three different hiking trails*: \n\nTrail 1: Waypoint Trail – 3.3 miles\nTrail 2: Stumptown Trail – 2 miles\nTrail 3: Overlook Trail – 1.3 miles (paved)\n\n*All trails are dog-friendly! \nEvent schedule\nPre-Check-in (Optional): \n\nDate: Sep 20th\, 9:00 a.m. – 11:00 a.m.\nLocation: Waypoint 5th Street front desk\nNote: Skip the line\, grab your shirt\, and show up ready to hike on the 22nd!\n\nDay of Event: \n\nCheck-in: Sep 22nd\, 10:00 – 10:45 a.m. at Mount Trashmore front entrance\nHike: 11:00 a.m. – 1:00 p.m.\nPost Event: Enjoy an after-event lunch at Pickle Place in Cedar Rapids with fellow participants. (Meal prices are not included in your ticket purchase)
URL:https://www.gcrcf.org/event/hiking-for-housing/
LOCATION:Mount Trashmore: 2216 A St SW\, Cedar Rapids\, IA 52404\, Mount Trashmore: 2216 A St SW\, Cedar Rapids\, IA 52404\, Cedar Rapids\, IA\, 52404\, United States
CATEGORIES:Nonprofit Calendar
ATTACH;FMTTYPE=image/jpeg:https://www.gcrcf.org/wp-content/uploads/2024/06/Hiking-for-Housing-Logo-JPG-1.jpg
ORGANIZER;CN="Waypoint":MAILTO:apaine@waypointservices.org
END:VEVENT
BEGIN:VEVENT
DTSTART;TZID=America/Chicago:20240926T160000
DTEND;TZID=America/Chicago:20240926T190000
DTSTAMP:20260419T182330
CREATED:20230719T134419Z
LAST-MODIFIED:20240415T173454Z
UID:10001284-1727366400-1727377200@www.gcrcf.org
SUMMARY:Cultivate Hope Mega Market
DESCRIPTION:The Cultivate Hope Mega Market is a celebration of food\, music\, activities\, and community at Matthew 25‘s Cultivate Hope Urban Farm\, located at 437 G Ave. NW. We feature our locally-grown produce\, and the brick oven is blazing as we create pizzas for you\, your family\, and your friends to enjoy in our beautiful setting. Live music by local musicians will be played throughout the event\, Cultivate Hope Corner Store will be providing free hot dogs\, local vendors will be showcasing their items\, and so much more! \nWe hope to see you all there! \nThis year’s Mega Markets each have a special theme and are held from 4-7 pm on the last Thursday of the month from May-September. \nThis year’s dates are: \nMay 30 – Season Kickoff! \nJune 27 – Red\, White and Blueberries \nJuly 25 – Summer Celebration \nAugust 29 – Flower Power \nSeptember 26 – Harvest Festival \n  \n 
URL:https://www.gcrcf.org/event/cultivate-hope-mega-market/2024-09-26/
LOCATION:Cultivate Hope Urban Farm\, 437 G Ave. NW\, Cedar Rapids\, IA\, 52404\, United States
CATEGORIES:Nonprofit Calendar
ATTACH;FMTTYPE=image/png:https://www.gcrcf.org/wp-content/uploads/2023/07/mega-market960.png
ORGANIZER;CN="Matthew 25":MAILTO:info@hub25.org
END:VEVENT
END:VCALENDAR