BEGIN:VCALENDAR
VERSION:2.0
PRODID:-//Greater Cedar Rapids Community Foundation - ECPv6.15.20//NONSGML v1.0//EN
CALSCALE:GREGORIAN
METHOD:PUBLISH
X-WR-CALNAME:Greater Cedar Rapids Community Foundation
X-ORIGINAL-URL:https://www.gcrcf.org
X-WR-CALDESC:Events for Greater Cedar Rapids Community Foundation
REFRESH-INTERVAL;VALUE=DURATION:PT1H
X-Robots-Tag:noindex
X-PUBLISHED-TTL:PT1H
BEGIN:VTIMEZONE
TZID:America/Chicago
BEGIN:DAYLIGHT
TZOFFSETFROM:-0600
TZOFFSETTO:-0500
TZNAME:CDT
DTSTART:20230312T080000
END:DAYLIGHT
BEGIN:STANDARD
TZOFFSETFROM:-0500
TZOFFSETTO:-0600
TZNAME:CST
DTSTART:20231105T070000
END:STANDARD
BEGIN:DAYLIGHT
TZOFFSETFROM:-0600
TZOFFSETTO:-0500
TZNAME:CDT
DTSTART:20240310T080000
END:DAYLIGHT
BEGIN:STANDARD
TZOFFSETFROM:-0500
TZOFFSETTO:-0600
TZNAME:CST
DTSTART:20241103T070000
END:STANDARD
BEGIN:DAYLIGHT
TZOFFSETFROM:-0600
TZOFFSETTO:-0500
TZNAME:CDT
DTSTART:20250309T080000
END:DAYLIGHT
BEGIN:STANDARD
TZOFFSETFROM:-0500
TZOFFSETTO:-0600
TZNAME:CST
DTSTART:20251102T070000
END:STANDARD
END:VTIMEZONE
BEGIN:VEVENT
DTSTART;TZID=America/Chicago:20240203T180000
DTEND;TZID=America/Chicago:20240203T220000
DTSTAMP:20260424T024430
CREATED:20231213T145530Z
LAST-MODIFIED:20231213T145541Z
UID:10001377-1706983200-1706997600@www.gcrcf.org
SUMMARY:‘daBluesapalooza
DESCRIPTION:KCCK’s All-Star Jam to support ‘da Blues\, Iowa’s longest-running blues radio shows!\n \nScheduled To Appear:\nThe JaneysD-Dog & The BBiTsMatt Panek & the Electric Kool Aid TrioThe Tanya English BandHomebrewedDr. Z’s Experiment\nPlus\, a truckload of special guests!\nBBQ provided by CR Midnight Smoker BBQ\nMore info atwww.kcck.org/dabluesapalooza
URL:https://www.gcrcf.org/event/dabluesapalooza/
LOCATION:The Olympic South Side Theater\, 1202 3rd St SE #200\, Cedar Rapids\, IA\, 52401\, United States
CATEGORIES:Nonprofit Calendar
ATTACH;FMTTYPE=image/jpeg:https://www.gcrcf.org/wp-content/uploads/2023/12/23_KC_101098-daBluesapalooza-Social-Media-Images-PROOF-1_Page_1-1-scaled.jpg
ORGANIZER;CN="Jazz 88.3 KCCK":MAILTO:michelle.collier@kirkwood.edu
END:VEVENT
END:VCALENDAR