BEGIN:VCALENDAR
VERSION:2.0
PRODID:-//Greater Cedar Rapids Community Foundation - ECPv6.15.20//NONSGML v1.0//EN
CALSCALE:GREGORIAN
METHOD:PUBLISH
X-ORIGINAL-URL:https://www.gcrcf.org
X-WR-CALDESC:Events for Greater Cedar Rapids Community Foundation
REFRESH-INTERVAL;VALUE=DURATION:PT1H
X-Robots-Tag:noindex
X-PUBLISHED-TTL:PT1H
BEGIN:VTIMEZONE
TZID:America/Chicago
BEGIN:DAYLIGHT
TZOFFSETFROM:-0600
TZOFFSETTO:-0500
TZNAME:CDT
DTSTART:20230312T080000
END:DAYLIGHT
BEGIN:STANDARD
TZOFFSETFROM:-0500
TZOFFSETTO:-0600
TZNAME:CST
DTSTART:20231105T070000
END:STANDARD
BEGIN:DAYLIGHT
TZOFFSETFROM:-0600
TZOFFSETTO:-0500
TZNAME:CDT
DTSTART:20240310T080000
END:DAYLIGHT
BEGIN:STANDARD
TZOFFSETFROM:-0500
TZOFFSETTO:-0600
TZNAME:CST
DTSTART:20241103T070000
END:STANDARD
BEGIN:DAYLIGHT
TZOFFSETFROM:-0600
TZOFFSETTO:-0500
TZNAME:CDT
DTSTART:20250309T080000
END:DAYLIGHT
BEGIN:STANDARD
TZOFFSETFROM:-0500
TZOFFSETTO:-0600
TZNAME:CST
DTSTART:20251102T070000
END:STANDARD
END:VTIMEZONE
BEGIN:VEVENT
DTSTART;TZID=America/Chicago:20240622T130000
DTEND;TZID=America/Chicago:20240622T180000
DTSTAMP:20260423T060636
CREATED:20240528T134452Z
LAST-MODIFIED:20240528T134500Z
UID:10001887-1719061200-1719079200@www.gcrcf.org
SUMMARY:Volta Youth Music and Arts Festival
DESCRIPTION:Come and join us for a day of arts celebration at Jones Park in Cedar Rapids! The Eastern Iowa Arts Academy is thrilled to partner once again with the Cedar Rapids Freedom Festival\, this time kicking off the beloved Balloon Glow event! Get ready for electrifying performances by our Rock Academy Bands\, along with local favorites like the Surf Zombies\, Evan Stock Band\, Markut Fresh\, and Ill Omen! Our Youth Academy artists will also be showcasing and selling their art alongside the vibrant Bohemian Betty. Bring a chair\, grab your Freedom Festival Button\, and enjoy the festivities\, complete with the always amazing Cedar Rapids food trucks!
URL:https://www.gcrcf.org/event/volta-youth-music-and-arts-festival/
LOCATION:Jones Memorial Park\, 201 Wilson Avenue SW\, Cedar Rapids\, IA\, 52404\, United States
CATEGORIES:Nonprofit Calendar
ATTACH;FMTTYPE=image/png:https://www.gcrcf.org/wp-content/uploads/2024/05/June-24th-8.5-x-11-in-1-1.png
ORGANIZER;CN="Eastern Iowa Arts Academy":MAILTO:info@eiaaprogram.org
END:VEVENT
END:VCALENDAR