BEGIN:VCALENDAR
VERSION:2.0
PRODID:-//Greater Cedar Rapids Community Foundation - ECPv6.15.20//NONSGML v1.0//EN
CALSCALE:GREGORIAN
METHOD:PUBLISH
X-WR-CALNAME:Greater Cedar Rapids Community Foundation
X-ORIGINAL-URL:https://www.gcrcf.org
X-WR-CALDESC:Events for Greater Cedar Rapids Community Foundation
REFRESH-INTERVAL;VALUE=DURATION:PT1H
X-Robots-Tag:noindex
X-PUBLISHED-TTL:PT1H
BEGIN:VTIMEZONE
TZID:America/Chicago
BEGIN:DAYLIGHT
TZOFFSETFROM:-0600
TZOFFSETTO:-0500
TZNAME:CDT
DTSTART:20230312T080000
END:DAYLIGHT
BEGIN:STANDARD
TZOFFSETFROM:-0500
TZOFFSETTO:-0600
TZNAME:CST
DTSTART:20231105T070000
END:STANDARD
BEGIN:DAYLIGHT
TZOFFSETFROM:-0600
TZOFFSETTO:-0500
TZNAME:CDT
DTSTART:20240310T080000
END:DAYLIGHT
BEGIN:STANDARD
TZOFFSETFROM:-0500
TZOFFSETTO:-0600
TZNAME:CST
DTSTART:20241103T070000
END:STANDARD
BEGIN:DAYLIGHT
TZOFFSETFROM:-0600
TZOFFSETTO:-0500
TZNAME:CDT
DTSTART:20250309T080000
END:DAYLIGHT
BEGIN:STANDARD
TZOFFSETFROM:-0500
TZOFFSETTO:-0600
TZNAME:CST
DTSTART:20251102T070000
END:STANDARD
END:VTIMEZONE
BEGIN:VEVENT
DTSTART;TZID=America/Chicago:20240427T143000
DTEND;TZID=America/Chicago:20240427T173000
DTSTAMP:20260421T080016
CREATED:20240321T174958Z
LAST-MODIFIED:20240321T175005Z
UID:10001485-1714228200-1714239000@www.gcrcf.org
SUMMARY:Willis Dady's 9th Annual Hops for Housing Event
DESCRIPTION:Good Beer\, Great Cause!\n\nJoin us on April 27th for an afternoon of beer and cider tasting from 20+ local and national breweries. We will have live music\, a silent auction\, games\, and plenty of samples to enjoy! 100% of proceeds benefit Willis Dady Homeless Services.\n\nTickets can be pre-ordered for $40 through our Givebutter site https://givebutter.com/HOPS24 \, or can be purchased for $45 at the door. Ticketholders will receive a pretzel necklace\, tasting glass\, beer booklet\, and admittance to the event with over 20 breweries and cideries to sample from.\n\nHops for Housing is an annual fund and awareness-raising event to benefit Willis Dady Homeless Services\, who provides homeless prevention\, housing\, emergency shelter\, outreach\, employment\, and veterans services to all experiencing or near homeless in Linn County. 100% of the proceeds will benefit Willis Dady’s mission and vision.
URL:https://www.gcrcf.org/event/willis-dadys-9th-annual-hops-for-housing-event/
LOCATION:Hotel at Kirkwood Center\, 7725 Kirkwood Blvd SW\, Cedar Rapids\, IA
CATEGORIES:Nonprofit Calendar
ATTACH;FMTTYPE=image/png:https://www.gcrcf.org/wp-content/uploads/2024/03/H4H-Facebook-Cover.png
GEO:41.9039185;-91.6554227
X-APPLE-STRUCTURED-LOCATION;VALUE=URI;X-ADDRESS=Hotel at Kirkwood Center 7725 Kirkwood Blvd SW Cedar Rapids IA;X-APPLE-RADIUS=500;X-TITLE=7725 Kirkwood Blvd SW:geo:-91.6554227,41.9039185
END:VEVENT
END:VCALENDAR