BEGIN:VCALENDAR
VERSION:2.0
PRODID:-//Greater Cedar Rapids Community Foundation - ECPv6.15.20//NONSGML v1.0//EN
CALSCALE:GREGORIAN
METHOD:PUBLISH
X-ORIGINAL-URL:https://www.gcrcf.org
X-WR-CALDESC:Events for Greater Cedar Rapids Community Foundation
REFRESH-INTERVAL;VALUE=DURATION:PT1H
X-Robots-Tag:noindex
X-PUBLISHED-TTL:PT1H
BEGIN:VTIMEZONE
TZID:America/Chicago
BEGIN:DAYLIGHT
TZOFFSETFROM:-0600
TZOFFSETTO:-0500
TZNAME:CDT
DTSTART:20230312T080000
END:DAYLIGHT
BEGIN:STANDARD
TZOFFSETFROM:-0500
TZOFFSETTO:-0600
TZNAME:CST
DTSTART:20231105T070000
END:STANDARD
BEGIN:DAYLIGHT
TZOFFSETFROM:-0600
TZOFFSETTO:-0500
TZNAME:CDT
DTSTART:20240310T080000
END:DAYLIGHT
BEGIN:STANDARD
TZOFFSETFROM:-0500
TZOFFSETTO:-0600
TZNAME:CST
DTSTART:20241103T070000
END:STANDARD
BEGIN:DAYLIGHT
TZOFFSETFROM:-0600
TZOFFSETTO:-0500
TZNAME:CDT
DTSTART:20250309T080000
END:DAYLIGHT
BEGIN:STANDARD
TZOFFSETFROM:-0500
TZOFFSETTO:-0600
TZNAME:CST
DTSTART:20251102T070000
END:STANDARD
END:VTIMEZONE
BEGIN:VEVENT
DTSTART;TZID=America/Chicago:20240426T180000
DTEND;TZID=America/Chicago:20240426T210000
DTSTAMP:20260421T115159
CREATED:20240227T205057Z
LAST-MODIFIED:20240227T205103Z
UID:10001474-1714154400-1714165200@www.gcrcf.org
SUMMARY:KCCK's Taste of Jazz
DESCRIPTION:Join KCCK in collaboration with Kirkwood’s Culinary Arts and Hospitality Arts Departments for an evening of food\, wine\, beer and music to benefit KCCK’s Jazz Education Programs.\nMusic by 10 of Soul and the Kirkwood Jazz Combo\nThe event features wine and beer tastings\, heavy hors d’oeuvres\, dessert and a silent auction. And of course great live music!\nFeaturing Wine from Fireside Winery\, Tabor House Winery\, and Lubben Vineyards and Wine. Beer from House Divided Brewery\, Iowa Brewing Co.\, and Reunion Brewery.\nIndividual Tickets are $75 or $700 for a reserved table of 8.\nMore information at tickets at: www.kcck.org/taste
URL:https://www.gcrcf.org/event/kccks-taste-of-jazz/
LOCATION:Hotel at Kirkwood Center
CATEGORIES:Nonprofit Calendar
ATTACH;FMTTYPE=image/jpeg:https://www.gcrcf.org/wp-content/uploads/2024/02/kcck-fb-newsfeed-2024-472x394-1.jpg
ORGANIZER;CN="Jazz 88.3 KCCK":MAILTO:michelle.collier@kirkwood.edu
END:VEVENT
END:VCALENDAR