BEGIN:VCALENDAR
VERSION:2.0
PRODID:-//Greater Cedar Rapids Community Foundation - ECPv6.15.20//NONSGML v1.0//EN
CALSCALE:GREGORIAN
METHOD:PUBLISH
X-ORIGINAL-URL:https://www.gcrcf.org
X-WR-CALDESC:Events for Greater Cedar Rapids Community Foundation
REFRESH-INTERVAL;VALUE=DURATION:PT1H
X-Robots-Tag:noindex
X-PUBLISHED-TTL:PT1H
BEGIN:VTIMEZONE
TZID:America/Chicago
BEGIN:DAYLIGHT
TZOFFSETFROM:-0600
TZOFFSETTO:-0500
TZNAME:CDT
DTSTART:20230312T080000
END:DAYLIGHT
BEGIN:STANDARD
TZOFFSETFROM:-0500
TZOFFSETTO:-0600
TZNAME:CST
DTSTART:20231105T070000
END:STANDARD
BEGIN:DAYLIGHT
TZOFFSETFROM:-0600
TZOFFSETTO:-0500
TZNAME:CDT
DTSTART:20240310T080000
END:DAYLIGHT
BEGIN:STANDARD
TZOFFSETFROM:-0500
TZOFFSETTO:-0600
TZNAME:CST
DTSTART:20241103T070000
END:STANDARD
BEGIN:DAYLIGHT
TZOFFSETFROM:-0600
TZOFFSETTO:-0500
TZNAME:CDT
DTSTART:20250309T080000
END:DAYLIGHT
BEGIN:STANDARD
TZOFFSETFROM:-0500
TZOFFSETTO:-0600
TZNAME:CST
DTSTART:20251102T070000
END:STANDARD
END:VTIMEZONE
BEGIN:VEVENT
DTSTART;TZID=America/Chicago:20240504T100000
DTEND;TZID=America/Chicago:20240504T130000
DTSTAMP:20260421T045620
CREATED:20240416T194529Z
LAST-MODIFIED:20240416T194541Z
UID:10001494-1714816800-1714827600@www.gcrcf.org
SUMMARY:Cultivate Hope Spring Plant Sale
DESCRIPTION:Cultivate Hope’s Annual Spring Plant Sale\, held on May 4\, 2024 from 10 am – 1 pm at the Urban Farm\, will feature fruits\, vegetables\, herbs and flowers grown in our greenhouse as well as affordably priced annual and perennial plants grown by our local partners.  This event helps us fund our programs and services throughout the year. We will also have Yard Tools available to help support our Tool Library.
URL:https://www.gcrcf.org/event/cultivate-hope-spring-plant-sale/
LOCATION:Cultivate Hope Urban Farm\, 437 G Ave. NW\, Cedar Rapids\, IA\, 52404\, United States
CATEGORIES:Nonprofit Calendar
ATTACH;FMTTYPE=image/png:https://www.gcrcf.org/wp-content/uploads/2024/04/M25-Plant-Sale.png
ORGANIZER;CN="Matthew 25":MAILTO:info@hub25.org
END:VEVENT
BEGIN:VEVENT
DTSTART;TZID=America/Chicago:20240509T163000
DTEND;TZID=America/Chicago:20240509T183000
DTSTAMP:20260421T045620
CREATED:20240329T154547Z
LAST-MODIFIED:20240329T154601Z
UID:10001491-1715272200-1715279400@www.gcrcf.org
SUMMARY:Happy Hour for Kids First
DESCRIPTION:Mark your calendar!\nJoin us Thursday\, May 9 from 4:30 – 6:30 PM at The Olympic in the NewBo District. Entry is free\, fabulous auction items await\, and the bar is open! We can’t wait to celebrate with you.\n\nAll of the proceeds directly support Kids First’s mission to give children a voice in divorce\, custody\, and other conflicts by providing focused legal representation and services for kids.
URL:https://www.gcrcf.org/event/happy-hour-for-kids-first/
LOCATION:The Olympic South Side Theater\, 1202 3rd St SE #200\, Cedar Rapids\, IA\, 52401\, United States
CATEGORIES:Nonprofit Calendar
ATTACH;FMTTYPE=image/png:https://www.gcrcf.org/wp-content/uploads/2024/03/2024-Happy-Hour-Invite-for-web.png
ORGANIZER;CN="Kids First Law Center":MAILTO:sarah@kidsfirstiowa.org
END:VEVENT
BEGIN:VEVENT
DTSTART;TZID=America/Chicago:20240511T100000
DTEND;TZID=America/Chicago:20240511T160000
DTSTAMP:20260421T045620
CREATED:20240501T153452Z
LAST-MODIFIED:20240501T153501Z
UID:10001497-1715421600-1715443200@www.gcrcf.org
SUMMARY:GROW Grand Re-Opening & Plant Sale
DESCRIPTION:GROW Grand Re-Opening & Plant Sale!  Join us for plant care sessions\, kids activities\, and orchard tours!  GROW is a non-profit empowering growth and independences of adults living with disabilities through horticulture.
URL:https://www.gcrcf.org/event/grow-grand-re-opening-plant-sale/
LOCATION:Kazimour Farm & Orchard\, 2630 Otis Rd SE\, Cedar Rapids\, IA\, 52403\, United States
CATEGORIES:Nonprofit Calendar
ATTACH;FMTTYPE=image/jpeg:https://www.gcrcf.org/wp-content/uploads/2024/05/May-2024-Youre-Invited.jpg
ORGANIZER;CN="GROW at Kazimour Farm &amp%3B Orchard":MAILTO:growattheorchard@gmail.com
END:VEVENT
BEGIN:VEVENT
DTSTART;TZID=America/Chicago:20240516T160000
DTEND;TZID=America/Chicago:20240516T180000
DTSTAMP:20260421T045620
CREATED:20240501T153601Z
LAST-MODIFIED:20240501T153610Z
UID:10001498-1715875200-1715882400@www.gcrcf.org
SUMMARY:Trees Forever Legacy Society Memorial Tree Planting & Reception
DESCRIPTION:Please join us for one of our most beloved events. It is a privilege to recognize individuals whose lives have been honored or remembered through gifts to Trees Forever. We also will thank donors to the Granting a Better Tomorrow Fund and will recognize forward-thinking members of the Legacy Society who have made planned gifts or bequests to Trees Forever.\n\nYou are welcome to bring a note written to your loved one and place it in the soil before we plant and mulch. As we think of the future and new life planted\, we’ll take a moment to reflect and thank those who’ve created this legacy. Your generosity is testimony to a brighter\, greener tomorrow.
URL:https://www.gcrcf.org/event/trees-forever-legacy-society-memorial-tree-planting-reception/
LOCATION:Prairie Oak Lodge at Wanatee Park\, 4201 Big Bluestem Dr\, Marion\, IA\, 52302\, United States
CATEGORIES:Nonprofit Calendar
ATTACH;FMTTYPE=image/jpeg:https://www.gcrcf.org/wp-content/uploads/2024/04/Deeply-Rooted.jpg
ORGANIZER;CN="Trees Forever":MAILTO:hcroskrey@treesforever.org
END:VEVENT
BEGIN:VEVENT
DTSTART;TZID=America/Chicago:20240520T173000
DTEND;TZID=America/Chicago:20240520T183000
DTSTAMP:20260421T045620
CREATED:20240108T185510Z
LAST-MODIFIED:20240626T000742Z
UID:10001883-1716226200-1716229800@www.gcrcf.org
SUMMARY:Tours and Treats
DESCRIPTION:Get and up-close view of just what happens inside His Hands Free Clinic. We’ve doubled the amount of patients we’ve been able to help in the past year. Find out how it works and enjoys some beverages and treats. You’ll see why His Hands is such an important service in our community.
URL:https://www.gcrcf.org/event/tours-and-treats/2024-05-20/
LOCATION:IA
CATEGORIES:Nonprofit Calendar
ATTACH;FMTTYPE=image/jpeg:https://www.gcrcf.org/wp-content/uploads/2024/01/His_Hands_7-23_43238-9.jpg
END:VEVENT
BEGIN:VEVENT
DTSTART;TZID=America/Chicago:20240530T160000
DTEND;TZID=America/Chicago:20240530T190000
DTSTAMP:20260421T045620
CREATED:20230719T134419Z
LAST-MODIFIED:20240415T173454Z
UID:10001280-1717084800-1717095600@www.gcrcf.org
SUMMARY:Cultivate Hope Mega Market
DESCRIPTION:The Cultivate Hope Mega Market is a celebration of food\, music\, activities\, and community at Matthew 25‘s Cultivate Hope Urban Farm\, located at 437 G Ave. NW. We feature our locally-grown produce\, and the brick oven is blazing as we create pizzas for you\, your family\, and your friends to enjoy in our beautiful setting. Live music by local musicians will be played throughout the event\, Cultivate Hope Corner Store will be providing free hot dogs\, local vendors will be showcasing their items\, and so much more! \nWe hope to see you all there! \nThis year’s Mega Markets each have a special theme and are held from 4-7 pm on the last Thursday of the month from May-September. \nThis year’s dates are: \nMay 30 – Season Kickoff! \nJune 27 – Red\, White and Blueberries \nJuly 25 – Summer Celebration \nAugust 29 – Flower Power \nSeptember 26 – Harvest Festival \n  \n 
URL:https://www.gcrcf.org/event/cultivate-hope-mega-market/2024-05-30/
LOCATION:Cultivate Hope Urban Farm\, 437 G Ave. NW\, Cedar Rapids\, IA\, 52404\, United States
CATEGORIES:Nonprofit Calendar
ATTACH;FMTTYPE=image/png:https://www.gcrcf.org/wp-content/uploads/2023/07/mega-market960.png
ORGANIZER;CN="Matthew 25":MAILTO:info@hub25.org
END:VEVENT
END:VCALENDAR