BEGIN:VCALENDAR
VERSION:2.0
PRODID:-//Greater Cedar Rapids Community Foundation - ECPv6.15.20//NONSGML v1.0//EN
CALSCALE:GREGORIAN
METHOD:PUBLISH
X-WR-CALNAME:Greater Cedar Rapids Community Foundation
X-ORIGINAL-URL:https://www.gcrcf.org
X-WR-CALDESC:Events for Greater Cedar Rapids Community Foundation
REFRESH-INTERVAL;VALUE=DURATION:PT1H
X-Robots-Tag:noindex
X-PUBLISHED-TTL:PT1H
BEGIN:VTIMEZONE
TZID:America/Chicago
BEGIN:DAYLIGHT
TZOFFSETFROM:-0600
TZOFFSETTO:-0500
TZNAME:CDT
DTSTART:20220313T080000
END:DAYLIGHT
BEGIN:STANDARD
TZOFFSETFROM:-0500
TZOFFSETTO:-0600
TZNAME:CST
DTSTART:20221106T070000
END:STANDARD
BEGIN:DAYLIGHT
TZOFFSETFROM:-0600
TZOFFSETTO:-0500
TZNAME:CDT
DTSTART:20230312T080000
END:DAYLIGHT
BEGIN:STANDARD
TZOFFSETFROM:-0500
TZOFFSETTO:-0600
TZNAME:CST
DTSTART:20231105T070000
END:STANDARD
BEGIN:DAYLIGHT
TZOFFSETFROM:-0600
TZOFFSETTO:-0500
TZNAME:CDT
DTSTART:20240310T080000
END:DAYLIGHT
BEGIN:STANDARD
TZOFFSETFROM:-0500
TZOFFSETTO:-0600
TZNAME:CST
DTSTART:20241103T070000
END:STANDARD
END:VTIMEZONE
BEGIN:VEVENT
DTSTART;TZID=America/Chicago:20231005T190000
DTEND;TZID=America/Chicago:20231005T210000
DTSTAMP:20260425T231628
CREATED:20230823T193946Z
LAST-MODIFIED:20230823T193954Z
UID:10001329-1696532400-1696539600@www.gcrcf.org
SUMMARY:Recycle Gala "Trashion" Show
DESCRIPTION:Cedar Valley Habitat for Humanity’s annual Recycle Gala will take place on Thursday\, October 5. Join us at the Olympic South Side Theater in Cedar Rapids for a runway “trashion” show with recycled attire designed by local artists\, businesses\, and community members. The event also includes music\, live and silent auctions\, drinks\, charcuterie\, and more! Doors open at 6PM and the show starts at 7PM. Special thanks to the Cedar Rapids Area Association of REALTORS for partnering with us for this unforgettable event aimed at helping local families achieve their dream of homeownership!
URL:https://www.gcrcf.org/event/recycle-gala-trashion-show/
LOCATION:The Olympic South Side Theater\, 1202 3rd St SE #200\, Cedar Rapids\, IA\, 52401\, United States
CATEGORIES:Nonprofit Calendar
ATTACH;FMTTYPE=image/jpeg:https://www.gcrcf.org/wp-content/uploads/2023/08/Recycle-Gala-GCRCF-Teaser-Image.jpg
ORGANIZER;CN="Cedar Valley Habitat For Humanity":MAILTO:greg.westrom@cvhabitat.org
END:VEVENT
BEGIN:VEVENT
DTSTART;TZID=America/Chicago:20231012T160000
DTEND;TZID=America/Chicago:20231012T190000
DTSTAMP:20260425T231628
CREATED:20231002T192027Z
LAST-MODIFIED:20231002T192036Z
UID:10001337-1697126400-1697137200@www.gcrcf.org
SUMMARY:Cultivate Hope Harvest Festival
DESCRIPTION:We invite the community to join in celebrating the fall harvest on our Urban Farm! We will have free hot dogs from the Cultivate Hope Corner Store\, kids activities and a hay bale maze\, s’mores bar\, live music\, food and beverages from Groundswell Cafe\, produce from the Urban Farm\, and homemade products from our Youth Development Program students\, such as zucchini bread\, pumpkin bread\, chocolate beet bread\, and pickled vegetables. \nThe Urban Farm is located at 437 G Ave. NW in Cedar Rapids. Parking is available on F Ave. and G Ave. We hope to see you there!
URL:https://www.gcrcf.org/event/cultivate-hope-harvest-festival/
LOCATION:Cultivate Hope Urban Farm\, 437 G Ave. NW\, Cedar Rapids\, IA\, 52404\, United States
CATEGORIES:Nonprofit Calendar
ATTACH;FMTTYPE=image/jpeg:https://www.gcrcf.org/wp-content/uploads/2023/09/Harvest-Festival.jpg
ORGANIZER;CN="Matthew 25":MAILTO:info@hub25.org
END:VEVENT
END:VCALENDAR