BEGIN:VCALENDAR
VERSION:2.0
PRODID:-//Greater Cedar Rapids Community Foundation - ECPv6.15.20//NONSGML v1.0//EN
CALSCALE:GREGORIAN
METHOD:PUBLISH
X-WR-CALNAME:Greater Cedar Rapids Community Foundation
X-ORIGINAL-URL:https://www.gcrcf.org
X-WR-CALDESC:Events for Greater Cedar Rapids Community Foundation
REFRESH-INTERVAL;VALUE=DURATION:PT1H
X-Robots-Tag:noindex
X-PUBLISHED-TTL:PT1H
BEGIN:VTIMEZONE
TZID:America/Chicago
BEGIN:DAYLIGHT
TZOFFSETFROM:-0600
TZOFFSETTO:-0500
TZNAME:CDT
DTSTART:20220313T080000
END:DAYLIGHT
BEGIN:STANDARD
TZOFFSETFROM:-0500
TZOFFSETTO:-0600
TZNAME:CST
DTSTART:20221106T070000
END:STANDARD
BEGIN:DAYLIGHT
TZOFFSETFROM:-0600
TZOFFSETTO:-0500
TZNAME:CDT
DTSTART:20230312T080000
END:DAYLIGHT
BEGIN:STANDARD
TZOFFSETFROM:-0500
TZOFFSETTO:-0600
TZNAME:CST
DTSTART:20231105T070000
END:STANDARD
BEGIN:DAYLIGHT
TZOFFSETFROM:-0600
TZOFFSETTO:-0500
TZNAME:CDT
DTSTART:20240310T080000
END:DAYLIGHT
BEGIN:STANDARD
TZOFFSETFROM:-0500
TZOFFSETTO:-0600
TZNAME:CST
DTSTART:20241103T070000
END:STANDARD
BEGIN:DAYLIGHT
TZOFFSETFROM:-0600
TZOFFSETTO:-0500
TZNAME:CDT
DTSTART:20250309T080000
END:DAYLIGHT
BEGIN:STANDARD
TZOFFSETFROM:-0500
TZOFFSETTO:-0600
TZNAME:CST
DTSTART:20251102T070000
END:STANDARD
BEGIN:DAYLIGHT
TZOFFSETFROM:-0600
TZOFFSETTO:-0500
TZNAME:CDT
DTSTART:20260308T080000
END:DAYLIGHT
BEGIN:STANDARD
TZOFFSETFROM:-0500
TZOFFSETTO:-0600
TZNAME:CST
DTSTART:20261101T070000
END:STANDARD
END:VTIMEZONE
BEGIN:VEVENT
DTSTART;TZID=America/Chicago:20250920T090000
DTEND;TZID=America/Chicago:20250920T110000
DTSTAMP:20260424T014324
CREATED:20250908T151327Z
LAST-MODIFIED:20250908T151332Z
UID:10003096-1758358800-1758366000@www.gcrcf.org
SUMMARY:Save CR Heritage Heartbreaker Salvage Sale
DESCRIPTION:It broke our hearts to see the final days of the early-1900s “Queen of Hearts” mansion in Marshalltown\, but our volunteers saved Queen Anne windows\, arched windows\, vintage doors\, unique ornamental lintels (those wooden “toppers” above windows and doors); an antique medicine cabinet; doorknobs and more.  Stop by our Heartbreaker Salvage Sale from 9-11 a.m. Saturday\, Sept. 20\, for these items\, along with vintage sinks\, light fixtures\, doors and more rescued from other homes slated for demolition. Cash or check preferred. Proceeds benefit the J.E. Halvorson House\, 606 Fifth Ave. SE\, where the sale is held.
URL:https://www.gcrcf.org/event/save-cr-heritage-heartbreaker-salvage-sale/
LOCATION:J.E. Halvorson House\, 606 Fifth Ave. SE\, Cedar Rapids\, IA\, 52401\, United States
CATEGORIES:Nonprofit Calendar
ATTACH;FMTTYPE=image/jpeg:https://www.gcrcf.org/wp-content/uploads/2025/09/queen-heart-windows-high-scaled.jpg
ORGANIZER;CN="Save CR Heritage":MAILTO:savecrheritage@gmail.com
END:VEVENT
BEGIN:VEVENT
DTSTART;TZID=America/Chicago:20250726T090000
DTEND;TZID=America/Chicago:20250726T110000
DTSTAMP:20260424T014324
CREATED:20250707T135418Z
LAST-MODIFIED:20250707T135428Z
UID:10003088-1753520400-1753527600@www.gcrcf.org
SUMMARY:Brick-by-Brick II: Final Countdown
DESCRIPTION:Join Save CR Heritage in the final days of the nonprofit’s campaign to revitalize the historic Zastera Pharmacy building during Brick-by-Brick II: Final Countdown! The Hall-Perrine Foundation is providing an incredible catalyst of $100\,000 to help purchase the 1920s brick building in northwest Cedar Rapids\, and your help is needed to raise the remainder of the $175\,000 purchase price by Aug. 1. Save CR Heritage plans to breathe new life into the historic Time Check neighborhood by repurposing the building as an architectural salvage store and community hub! While supplies last\, donors of $100 or more will receive a brick with a Czech connection – from the Sykora Bakery auction in Czech Village – to pay tribute to the building’s first owner\, the son of Bohemian immigrants. Your name will also be included on the Save CR Heritage website and donor wall at the shop. The event coincides with the nonprofit’s monthly salvage sale of vintage doors\, windows and more\, rescued from homes slated for demolition\, with proceeds benefiting the capital campaign\, as well. Every dollar makes a difference during the countdown to Aug. 1!
URL:https://www.gcrcf.org/event/brick-by-brick-ii-final-countdown/
LOCATION:J.E. Halvorson House\, 606 Fifth Ave. SE\, Cedar Rapids\, IA\, 52401\, United States
CATEGORIES:Nonprofit Calendar
ATTACH;FMTTYPE=image/jpeg:https://www.gcrcf.org/wp-content/uploads/2025/07/brick-bricks-scaled.jpg
ORGANIZER;CN="Save CR Heritage":MAILTO:savecrheritage@gmail.com
END:VEVENT
BEGIN:VEVENT
DTSTART;TZID=America/Chicago:20250621T090000
DTEND;TZID=America/Chicago:20250621T110000
DTSTAMP:20260424T014324
CREATED:20250603T191321Z
LAST-MODIFIED:20250603T191325Z
UID:10003078-1750496400-1750503600@www.gcrcf.org
SUMMARY:Save CR Heritage Brick-by-Brick fundraiser
DESCRIPTION:Help Save CR Heritage breathe new life into northwest Cedar Rapids! The all-volunteer nonprofit is raising funds to purchase the historic Zastera Pharmacy building to use as an architectural salvage store and community hub for the historic Time Check neighborhood. While supplies last\, donors of $100 or more will receive a brick with a Czech connection – from the Sykora Bakery auction in Czech Village – to pay tribute to the building’s first owner\, the son of Bohemian immigrants. Your name will also be included on the Save CR Heritage website and donor wall at the shop. The event coincides with our monthly salvage sale of vintage doors\, windows and more\, with sales proceeds benefiting the capital campaign\, as well. Contributions of any amount are greatly appreciated!
URL:https://www.gcrcf.org/event/save-cr-heritage-brick-by-brick-fundraiser/
LOCATION:J.E. Halvorson House\, 606 Fifth Ave. SE\, Cedar Rapids\, IA\, 52401\, United States
CATEGORIES:Nonprofit Calendar
ATTACH;FMTTYPE=image/jpeg:https://www.gcrcf.org/wp-content/uploads/2025/06/ellis-pharmacy-full-scaled.jpg
END:VEVENT
BEGIN:VEVENT
DTSTART;TZID=America/Chicago:20250518T130000
DTEND;TZID=America/Chicago:20250518T143000
DTSTAMP:20260424T014324
CREATED:20250328T181431Z
LAST-MODIFIED:20250328T181447Z
UID:10003059-1747573200-1747578600@www.gcrcf.org
SUMMARY:Orange Alert
DESCRIPTION:SAVE THE MONARCHS – PLANT MILKWEED! \nJoin us and learn from area experts how to create a pollinator sanctuary in your own backyard and support the Midwest Monarch population.  \n\nPresentations\nExpert Advice\nDrawing for Prizes\nNative Plant Sale – We are excited to work with local nurseries to bring native plant plugs to the event center! These plugs will be offered in the price range of $2-$5 per plug.\nBioTent Display & Special Pricing\nMonarch Lifecycle Kits\nMilkweed Distribution\n\nPresentations: \nThe State of the Monarch  Speaker: Augie Bergstrom – Manager\, Monarch Research StationDiscover the current challenges facing the monarch butterfly population and explore how you can take action to support and protect these incredible pollinators. \nThe Power of Native Landscapes  Speaker: Natalie Ross – Owner\, Ross Land StudioLearn from local expert and landscape architect\, Natalie Ross\, about the significance of native landscapes in promoting biodiversity\, supporting local ecosystems\, and creating thriving environments for both wildlife and communities. \nAsk an Expert PanelOur panel of local experts will be there to answer your questions about native plants\, creating a sanctuary for pollinators\, how to support the monarch population\, and more! \nPanel: \n\nAugie Bergstrom\, Manager of Monarch Research Station\nNatalie Ross\, owner of Ross Land Studio & registered landscape architect\nCurt Froyen\, Monarch Zone participant & retired science teacher
URL:https://www.gcrcf.org/event/orange-alert/
LOCATION:Monarch Research Event Center\, 4970 Lakeside Road\, Marion\, IA\, 52302\, United States
CATEGORIES:Nonprofit Calendar
ATTACH;FMTTYPE=image/jpeg:https://www.gcrcf.org/wp-content/uploads/2025/03/MR-Orange-Alert-Eventbrite-Header-2025-03-27.jpg
ORGANIZER;CN="Monarch Research":MAILTO:monarchzones@gmail.com
END:VEVENT
BEGIN:VEVENT
DTSTART;TZID=America/Chicago:20250508T163000
DTEND;TZID=America/Chicago:20250508T183000
DTSTAMP:20260424T014324
CREATED:20250228T194712Z
LAST-MODIFIED:20250228T194723Z
UID:10003051-1746721800-1746729000@www.gcrcf.org
SUMMARY:Happy Hour for Kids First
DESCRIPTION:Join Kids First Law Center for the happiest hour of the year – Kids First’s annual Happy Hour fundraiser! Come down to the beautiful South Side Olympic Theatre for Happy Hour on Thursday\, May 8 from 4:30 – 6:30. Don’t miss the silent and live auctions\, complimentary drinks & appetizers\, and your chance to make a difference for children in conflict. Entry is free. Bring your friends and coworkers!
URL:https://www.gcrcf.org/event/happy-hour-for-kids-first-2/
LOCATION:The Olympic South Side Theater\, 1202 3rd St SE #200\, Cedar Rapids\, IA\, 52401\, United States
CATEGORIES:Nonprofit Calendar
ATTACH;FMTTYPE=image/jpeg:https://www.gcrcf.org/wp-content/uploads/2025/02/2025-Happy-Hour-Invite-Email-2.jpg
ORGANIZER;CN="Kids First Law Center":MAILTO:sarah@kidsfirstiowa.org
END:VEVENT
BEGIN:VEVENT
DTSTART;TZID=America/Chicago:20250314T163000
DTEND;TZID=America/Chicago:20250314T183000
DTSTAMP:20260424T014324
CREATED:20250217T162200Z
LAST-MODIFIED:20250217T162218Z
UID:10003048-1741969800-1741977000@www.gcrcf.org
SUMMARY:Hot Soup – Cold Noses DRIVE THRU Supper
DESCRIPTION:Warm up your winter – and dish up some love for Iowa’s companion animals by joining us for Iowa Humane Alliance’s Hot Soup – Cold Noses DRIVE THRU Supper on Friday\, March 14th.Designed to thaw you out during the frostiest weather\, the take home meal includes two bowls of your choice of five delicious soups\, bread and dessert. Help pets and the people who care for them by supporting the Iowa Humane Alliance spay neuter solution!All proceeds benefit Iowa Humane Alliance’s mission to provide low cost\, high quality spay/neuter services for individual pet owners\, shelter and rescue partners and community cat caretakers.For more information visit iowahumanealliance.org or call 319-363-1225
URL:https://www.gcrcf.org/event/hot-soup-cold-noses-drive-thru-supper/
LOCATION:Iowa Humane Alliance\, 6540 6th Street SE\, Cedar Rapids\, IA\, 52404\, United States
CATEGORIES:Nonprofit Calendar
ATTACH;FMTTYPE=image/jpeg:https://www.gcrcf.org/wp-content/uploads/2025/02/early-flier.jpg
ORGANIZER;CN="Iowa Humane Alliace":MAILTO:info@iowahumanealliance.org
END:VEVENT
BEGIN:VEVENT
DTSTART;TZID=America/Chicago:20240516T160000
DTEND;TZID=America/Chicago:20240516T180000
DTSTAMP:20260424T014324
CREATED:20240501T153601Z
LAST-MODIFIED:20240501T153610Z
UID:10001498-1715875200-1715882400@www.gcrcf.org
SUMMARY:Trees Forever Legacy Society Memorial Tree Planting & Reception
DESCRIPTION:Please join us for one of our most beloved events. It is a privilege to recognize individuals whose lives have been honored or remembered through gifts to Trees Forever. We also will thank donors to the Granting a Better Tomorrow Fund and will recognize forward-thinking members of the Legacy Society who have made planned gifts or bequests to Trees Forever.\n\nYou are welcome to bring a note written to your loved one and place it in the soil before we plant and mulch. As we think of the future and new life planted\, we’ll take a moment to reflect and thank those who’ve created this legacy. Your generosity is testimony to a brighter\, greener tomorrow.
URL:https://www.gcrcf.org/event/trees-forever-legacy-society-memorial-tree-planting-reception/
LOCATION:Prairie Oak Lodge at Wanatee Park\, 4201 Big Bluestem Dr\, Marion\, IA\, 52302\, United States
CATEGORIES:Nonprofit Calendar
ATTACH;FMTTYPE=image/jpeg:https://www.gcrcf.org/wp-content/uploads/2024/04/Deeply-Rooted.jpg
ORGANIZER;CN="Trees Forever":MAILTO:hcroskrey@treesforever.org
END:VEVENT
BEGIN:VEVENT
DTSTART;TZID=America/Chicago:20231005T190000
DTEND;TZID=America/Chicago:20231005T210000
DTSTAMP:20260424T014324
CREATED:20230823T193946Z
LAST-MODIFIED:20230823T193954Z
UID:10001329-1696532400-1696539600@www.gcrcf.org
SUMMARY:Recycle Gala "Trashion" Show
DESCRIPTION:Cedar Valley Habitat for Humanity’s annual Recycle Gala will take place on Thursday\, October 5. Join us at the Olympic South Side Theater in Cedar Rapids for a runway “trashion” show with recycled attire designed by local artists\, businesses\, and community members. The event also includes music\, live and silent auctions\, drinks\, charcuterie\, and more! Doors open at 6PM and the show starts at 7PM. Special thanks to the Cedar Rapids Area Association of REALTORS for partnering with us for this unforgettable event aimed at helping local families achieve their dream of homeownership!
URL:https://www.gcrcf.org/event/recycle-gala-trashion-show/
LOCATION:The Olympic South Side Theater\, 1202 3rd St SE #200\, Cedar Rapids\, IA\, 52401\, United States
CATEGORIES:Nonprofit Calendar
ATTACH;FMTTYPE=image/jpeg:https://www.gcrcf.org/wp-content/uploads/2023/08/Recycle-Gala-GCRCF-Teaser-Image.jpg
ORGANIZER;CN="Cedar Valley Habitat For Humanity":MAILTO:greg.westrom@cvhabitat.org
END:VEVENT
END:VCALENDAR