BEGIN:VCALENDAR
VERSION:2.0
PRODID:-//Greater Cedar Rapids Community Foundation - ECPv6.15.20//NONSGML v1.0//EN
CALSCALE:GREGORIAN
METHOD:PUBLISH
X-WR-CALNAME:Greater Cedar Rapids Community Foundation
X-ORIGINAL-URL:https://www.gcrcf.org
X-WR-CALDESC:Events for Greater Cedar Rapids Community Foundation
REFRESH-INTERVAL;VALUE=DURATION:PT1H
X-Robots-Tag:noindex
X-PUBLISHED-TTL:PT1H
BEGIN:VTIMEZONE
TZID:America/Chicago
BEGIN:DAYLIGHT
TZOFFSETFROM:-0600
TZOFFSETTO:-0500
TZNAME:CDT
DTSTART:20240310T080000
END:DAYLIGHT
BEGIN:STANDARD
TZOFFSETFROM:-0500
TZOFFSETTO:-0600
TZNAME:CST
DTSTART:20241103T070000
END:STANDARD
BEGIN:DAYLIGHT
TZOFFSETFROM:-0600
TZOFFSETTO:-0500
TZNAME:CDT
DTSTART:20250309T080000
END:DAYLIGHT
BEGIN:STANDARD
TZOFFSETFROM:-0500
TZOFFSETTO:-0600
TZNAME:CST
DTSTART:20251102T070000
END:STANDARD
BEGIN:DAYLIGHT
TZOFFSETFROM:-0600
TZOFFSETTO:-0500
TZNAME:CDT
DTSTART:20260308T080000
END:DAYLIGHT
BEGIN:STANDARD
TZOFFSETFROM:-0500
TZOFFSETTO:-0600
TZNAME:CST
DTSTART:20261101T070000
END:STANDARD
END:VTIMEZONE
BEGIN:VEVENT
DTSTART;TZID=America/Chicago:20250306T113000
DTEND;TZID=America/Chicago:20250306T130000
DTSTAMP:20260419T141426
CREATED:20250103T195712Z
LAST-MODIFIED:20250116T175118Z
UID:10003040-1741260600-1741266000@www.gcrcf.org
SUMMARY:Immigration & Business Luncheon
DESCRIPTION:Join the Catherine McAuley Center for our third annual fundraiser honoring the contributions refugees and immigrants make to a thriving community! Guests will have the opportunity to connect\, reflect\, and contribute to our mission that provides opportunities for newcomers to thrive in Eastern Iowa. The event features a keynote speaker and the presentation of the Immigration & Business Awards. Prior to the luncheon\, a morning refugee simulation will be held. This immersive experience is designed to help participants better understand some of the difficult choices refugees may face on their resettlement journey. \nOur keynote speaker this year is Rekha Basu. For 30 years\, Rekha’s syndicated columns on national and local issues related to race\, gender\, immigration\, and social justice were staples in The Des Moines Register\, where her work still appears on occasion. She has been an on-air guest of TV hosts Tom Brokaw\, Rachel Maddow\, Gwen Ifill\, and CNN International’s Richard Quest. \n 
URL:https://www.gcrcf.org/event/refugee-simulation/
LOCATION:Double Tree by Hilton\, 350 1st Ave. NE\, Cedar Rapids\, IA\, 52401\, United States
CATEGORIES:Nonprofit Calendar
ATTACH;FMTTYPE=image/jpeg:https://www.gcrcf.org/wp-content/uploads/2025/01/ibl.jpg
ORGANIZER;CN="Catherine McAuley Center":MAILTO:haley@cmc-cr.org
END:VEVENT
END:VCALENDAR