BEGIN:VCALENDAR
VERSION:2.0
PRODID:-//Greater Cedar Rapids Community Foundation - ECPv6.15.20//NONSGML v1.0//EN
CALSCALE:GREGORIAN
METHOD:PUBLISH
X-ORIGINAL-URL:https://www.gcrcf.org
X-WR-CALDESC:Events for Greater Cedar Rapids Community Foundation
REFRESH-INTERVAL;VALUE=DURATION:PT1H
X-Robots-Tag:noindex
X-PUBLISHED-TTL:PT1H
BEGIN:VTIMEZONE
TZID:America/Chicago
BEGIN:DAYLIGHT
TZOFFSETFROM:-0600
TZOFFSETTO:-0500
TZNAME:CDT
DTSTART:20250309T080000
END:DAYLIGHT
BEGIN:STANDARD
TZOFFSETFROM:-0500
TZOFFSETTO:-0600
TZNAME:CST
DTSTART:20251102T070000
END:STANDARD
BEGIN:DAYLIGHT
TZOFFSETFROM:-0600
TZOFFSETTO:-0500
TZNAME:CDT
DTSTART:20260308T080000
END:DAYLIGHT
BEGIN:STANDARD
TZOFFSETFROM:-0500
TZOFFSETTO:-0600
TZNAME:CST
DTSTART:20261101T070000
END:STANDARD
BEGIN:DAYLIGHT
TZOFFSETFROM:-0600
TZOFFSETTO:-0500
TZNAME:CDT
DTSTART:20270314T080000
END:DAYLIGHT
BEGIN:STANDARD
TZOFFSETFROM:-0500
TZOFFSETTO:-0600
TZNAME:CST
DTSTART:20271107T070000
END:STANDARD
END:VTIMEZONE
BEGIN:VEVENT
DTSTART;TZID=America/Chicago:20260430T163000
DTEND;TZID=America/Chicago:20260430T183000
DTSTAMP:20260422T111201
CREATED:20260403T134230Z
LAST-MODIFIED:20260403T134235Z
UID:10003127-1777566600-1777573800@www.gcrcf.org
SUMMARY:Happy Hour for Kids First
DESCRIPTION:Join Kids First Thursday\, April 30 from 4:30 – 6:30 PM at The Olympic in the NewBo District. Entry is free\, fabulous auction items await\, and the bar is open! We can’t wait to celebrate with you.\n \nAll of the proceeds directly support Kids First’s mission to give children a voice in divorce\, custody\, and other conflicts by providing focused legal representation and services for kids right here in the Corridor.
URL:https://www.gcrcf.org/event/happy-hour-for-kids-first-3/
LOCATION:The Olympic South Side Theater\, 1202 3rd St SE #200\, Cedar Rapids\, IA\, 52401\, United States
CATEGORIES:Nonprofit Calendar
ATTACH;FMTTYPE=image/jpeg:https://www.gcrcf.org/wp-content/uploads/2026/04/2026-Happy-Hour-for-Kids-First-1.jpg
ORGANIZER;CN="Kids First Law Center":MAILTO:sarah@kidsfirstiowa.org
END:VEVENT
BEGIN:VEVENT
DTSTART;TZID=America/Chicago:20260501T183000
DTEND;TZID=America/Chicago:20260501T213000
DTSTAMP:20260422T111201
CREATED:20260403T134428Z
LAST-MODIFIED:20260403T134850Z
UID:10003128-1777660200-1777671000@www.gcrcf.org
SUMMARY:A Night with Bridgehaven Fundraising Gala
DESCRIPTION:A Night with Bridgehaven 2026\nJoin us for A Night with Bridgehaven as we gather to celebrate the life-changing work God is doing through the ministry of Bridgehaven. This year’s gala centers on stories of redemption\, restoration\, and hope—stories we see lived out every day as women\, men\, and families walk through our doors seeking compassion\, truth\, and support in the midst of unplanned pregnancies. \nThis evening is an opportunity to reflect on the profound impact Bridgehaven has on our community and to celebrate how God brings healing and purpose from brokenness. Together\, we will rejoice in lives restored\, families strengthened\, and hope renewed. \nDoors will open at 6:30 p.m. for our new pre-program social hour\, featuring check-in\, a photo booth for pictures with Al & Lisa Robertson\, dessert selection\, raffle drawings\, and fellowship. The program will begin promptly at 7:30 p.m. This event is a Dessert Gala\, so guests are encouraged to enjoy dinner prior to attending. \nThanks to the generosity of one of our donors\, this event is free to attend\, allowing guests to give freely throughout the evening as we work toward our $200\,000 fundraising goal in support of Bridgehaven’s mission.\n\nKeynote Speakers: Al & Lisa Robertson (Duck Dynasty)\nBridgehaven is honored to welcome Al and Lisa Robertson of Duck Dynasty as our keynote speakers for the 2026 Night with Bridgehaven Gala. \nAl is the oldest son of Phil and Miss Kay Robertson\, the patriarch and matriarch of the Duck Dynasty family. Lisa is his wife of 38 years\, and together they have spent more than 22 years sharing their story through ministry and speaking at marriage retreats\, pregnancy centers\, pro-life events\, and seminars across the country. \nLisa carries a powerful and deeply moving testimony that leaves a lasting impact on everyone she meets. Together\, Al and Lisa speak openly about brokenness\, restoration\, and the hope found through faith in Jesus Christ. Their story mirrors what we see daily at Bridgehaven—lives transformed through compassion\, truth\, and unwavering hope. \nGet ready for a memorable night filled with fun\, laughter\, tears\, and inspiration as we come together to celebrate what God is doing through Bridgehaven—and through each of you who make this ministry possible. \nSo sport your camo\, grow out your beard\, or dress it up with fancy beads—it’s a night for everyone as we celebrate life\, faith\, and the incredible impact of Bridgehaven.
URL:https://www.gcrcf.org/event/a-night-with-bridgehaven-fundraising-gala-2/
LOCATION:Double Tree by Hilton\, 350 1st Ave. NE\, Cedar Rapids\, IA\, 52401\, United States
CATEGORIES:Nonprofit Calendar
ATTACH;FMTTYPE=image/jpeg:https://www.gcrcf.org/wp-content/uploads/2026/03/Untitled-3.jpg
END:VEVENT
BEGIN:VEVENT
DTSTART;TZID=America/Chicago:20261106T180000
DTEND;TZID=America/Chicago:20261106T220000
DTSTAMP:20260422T111201
CREATED:20260206T185226Z
LAST-MODIFIED:20260206T185235Z
UID:10003114-1793988000-1794002400@www.gcrcf.org
SUMMARY:Cedar Rapids Museum of Art Gala
DESCRIPTION:An evening of exceptional cuisine\, libations\, and amazing art is here…the Cedar Rapids Museum of Art’s 11th Annual Gala! The fundraiser\, benefiting educational and outreach programming at the CRMA\, will be held Friday\, November 6\, 2026\, at the Cedar Rapids Country Club. This is our one and only fundraiser of the year and it’s going to be magnificent! You’ll be captivated by the professional Artist Gallery\, sensational Silent Auction items\, and a Live Auction filled with art and experiences you won’t want to miss. Our bidding platform will allow you to purchase your tickets on-line and bid on all your Silent Auction items right from your cell phone or mobile device. Black Tie Optional. For more information\, purchase tickets\, or donate\, go to www.crma.org.
URL:https://www.gcrcf.org/event/cedar-rapids-museum-of-art-gala/
LOCATION:Cedar Rapids Country Club\, 550 27th Street Drive SE\, Cedar Rapids\, IA\, 52403\, United States
CATEGORIES:Nonprofit Calendar
ATTACH;FMTTYPE=image/png:https://www.gcrcf.org/wp-content/uploads/2026/02/Gala-silver-10-year-anniversary.png
ORGANIZER;CN="Cedar Rapids Museum of Art":MAILTO:info@crma.org
END:VEVENT
END:VCALENDAR