BEGIN:VCALENDAR
VERSION:2.0
PRODID:-//Greater Cedar Rapids Community Foundation - ECPv6.15.20//NONSGML v1.0//EN
CALSCALE:GREGORIAN
METHOD:PUBLISH
X-WR-CALNAME:Greater Cedar Rapids Community Foundation
X-ORIGINAL-URL:https://www.gcrcf.org
X-WR-CALDESC:Events for Greater Cedar Rapids Community Foundation
REFRESH-INTERVAL;VALUE=DURATION:PT1H
X-Robots-Tag:noindex
X-PUBLISHED-TTL:PT1H
BEGIN:VTIMEZONE
TZID:America/Chicago
BEGIN:DAYLIGHT
TZOFFSETFROM:-0600
TZOFFSETTO:-0500
TZNAME:CDT
DTSTART:20250309T080000
END:DAYLIGHT
BEGIN:STANDARD
TZOFFSETFROM:-0500
TZOFFSETTO:-0600
TZNAME:CST
DTSTART:20251102T070000
END:STANDARD
BEGIN:DAYLIGHT
TZOFFSETFROM:-0600
TZOFFSETTO:-0500
TZNAME:CDT
DTSTART:20260308T080000
END:DAYLIGHT
BEGIN:STANDARD
TZOFFSETFROM:-0500
TZOFFSETTO:-0600
TZNAME:CST
DTSTART:20261101T070000
END:STANDARD
BEGIN:DAYLIGHT
TZOFFSETFROM:-0600
TZOFFSETTO:-0500
TZNAME:CDT
DTSTART:20270314T080000
END:DAYLIGHT
BEGIN:STANDARD
TZOFFSETFROM:-0500
TZOFFSETTO:-0600
TZNAME:CST
DTSTART:20271107T070000
END:STANDARD
END:VTIMEZONE
BEGIN:VEVENT
DTSTART;TZID=America/Chicago:20260301T030000
DTEND;TZID=America/Chicago:20260301T180000
DTSTAMP:20260423T203223
CREATED:20260212T153545Z
LAST-MODIFIED:20260212T153551Z
UID:10003117-1772334000-1772388000@www.gcrcf.org
SUMMARY:Rock Into Spring
DESCRIPTION:Join us Saturday\, March 1 in the Study Hall at Eastern Iowa Arts Academy for a full lineup featuring all eight of our youth bands. Come for one set or stay for the whole night. Either way you are going to leave smiling. \nThis is a community night through and through. Bring your friends\, bring your neighbor\, bring your teenager\, bring your parents. If you love cheering people on\, this is your kind of event. \nHave a child who has been curious about music lessons or being in a band? Bring them along. Seeing students close to their age on stage is the quickest spark there is\, and it is a fun way to get to know the Academy in a low pressure way. \nTickets are only $10 at the door\, and every dollar supports AccessArts\, our financial aid program for students in kindergarten through 12th grade. Your ticket helps keep arts education within reach for families who need a hand. \nRock Into SpringSaturday\, March 1 \n3-6pm\, doors open at 2:30pmEastern Iowa Arts Academy\, Study Hall$10 at the doorAll eight youth bands \nCome celebrate these young musicians and help make sure every child who wants to create has a way in.
URL:https://www.gcrcf.org/event/rock-into-spring/
LOCATION:Eastern Iowa Arts Academy\, 2630 B Avenue\, Cedar Rapids\, IA\, 52402\, United States
CATEGORIES:Nonprofit Calendar
ATTACH;FMTTYPE=image/png:https://www.gcrcf.org/wp-content/uploads/2026/02/Rock-into-Spring-logo-RGB-Vertical-sticker-version-1.png
ORGANIZER;CN="Eastern Iowa Arts Academy":MAILTO:info@eiaaprogram.org
END:VEVENT
BEGIN:VEVENT
DTSTART;TZID=America/Chicago:20260304T193000
DTEND;TZID=America/Chicago:20260304T213000
DTSTAMP:20260423T203223
CREATED:20260128T213045Z
LAST-MODIFIED:20260128T213049Z
UID:10003112-1772652600-1772659800@www.gcrcf.org
SUMMARY:Storytellers of Cedar Rapids
DESCRIPTION:Rooted in the belief that stories connect us\, this third show of our second season invites local voices to the stage to share true\, personal stories inspired by themes drawn from Matthew 25’s core pillars. The evening is a celebration of vulnerability\, truth\, and the power of storytelling to create belonging. For this show\, storytellers are exploring the theme “Seeking Shelter”. \nStay tuned for more details on our featured storytellers and musical guest for the evening! Groundswell Cafe will have drinks and snacks available for purchase to help support their mission. \nIf you are interested in supporting Storytellers of Cedar Rapids events\, please contact us! \nShow begins at 7:30 PM (doors open at 7:00 PM)
URL:https://www.gcrcf.org/event/storytellers-of-cedar-rapids-2/
LOCATION:Groundswell Cafe\, 201 3rd Ave SW\, Cedar Rapids\, IA\, 52404\, United States
CATEGORIES:Nonprofit Calendar
ATTACH;FMTTYPE=image/jpeg:https://www.gcrcf.org/wp-content/uploads/2026/01/Greater-CR-MAR-4-Storytellers-Graphics-Season-2.jpg
ORGANIZER;CN="Matthew 25":MAILTO:info@hub25.org
END:VEVENT
BEGIN:VEVENT
DTSTART;TZID=America/Chicago:20260311T093000
DTEND;TZID=America/Chicago:20260311T113000
DTSTAMP:20260423T203223
CREATED:20260130T201929Z
LAST-MODIFIED:20260217T141632Z
UID:10003113-1773221400-1773228600@www.gcrcf.org
SUMMARY:Nonprofit Know-How: Budgeting and Finance Essentials
DESCRIPTION:Presenters:Joe Heitz\, VP of Community Impact\, Greater Cedar Rapids Community FoundationDavid Little\, CPA\, Principal at CLA \n\n\n\nLEARNING TOPICS:Practical budgeting toolsClear understanding of nonprofit financial statementsTips to avoid common pitfallsConfidence to communicate financial needs to boards\, funders\, and staff \n\n\n\n\nRegister Here
URL:https://www.gcrcf.org/event/nonprofit-know-how-budgeting-and-finance-essentials/
LOCATION:Cedar Rapids Public Library\, Beems Auditorium\, 450 Fifth Avenue SE\, Cedar Rapids\, IA\, 52401\, United States
CATEGORIES:Learning & Events
END:VEVENT
BEGIN:VEVENT
DTSTART;TZID=America/Chicago:20260328T080000
DTEND;TZID=America/Chicago:20260328T100000
DTSTAMP:20260423T203223
CREATED:20260209T162306Z
LAST-MODIFIED:20260209T162344Z
UID:10003115-1774684800-1774692000@www.gcrcf.org
SUMMARY:2026 Arc March
DESCRIPTION:It’s time for the 29th Annual Arc March! Invite your friends\, family\, and coworkers to walk with you and help us raise awareness for those with intellectual and developmental disabilities! \nThe Arc March will be held at the Lindale Mall Food Court on Saturday\, March 28th. Activities will begin at 8:00 AM and the walk will start at 9:30 AM. \nGet registered now at: https://secure.qgiv.com/event/2026arcmarch/ \nOnce on the official Arc March website\, you will see two buttons:• Register For This Event – use this button to register yourself or a team. All registrations completed on or before March 9th include a t-shirt. Once your team is created you can invite friends and family to join you and compete for fundraising prizes.• Donate Now – use this button if you just want to donate to a great cause. We are grateful for your generosity! \nT-shirts:The deadline for t-shirts is March 9th. In order to guarantee a t-shirt your registration must be received by this date. The registration fee for a youth participant is $15.00 and the registration fee for an adult participant is $20.00. \nPrizes*:There will be prizes for the top three teams and any individual/team who raises over $1\,000. Start your fundraising now and track your progress and that of your competition. \nWe look forward to celebrating with everyone at this year’s Arc March! \nIf you have any questions please reach out to Jenny Bosking at jbosking@arceci.org or 319-893-6935. \nGet registered now and we can’t wait to see you there! https://secure.qgiv.com/event/2026arcmarch/
URL:https://www.gcrcf.org/event/2026-arc-march/
LOCATION:Lindale Mall\, 4444 1st Ave NE\, Cedar Rapids\, Iowa\, 52402
CATEGORIES:Nonprofit Calendar
ATTACH;FMTTYPE=image/jpeg:https://www.gcrcf.org/wp-content/uploads/2026/02/Facebook-event-image.jpg
ORGANIZER;CN="The Arc of East Central Iowa":MAILTO:arccommunications@arceci.org
END:VEVENT
END:VCALENDAR