BEGIN:VCALENDAR
VERSION:2.0
PRODID:-//Greater Cedar Rapids Community Foundation - ECPv6.15.20//NONSGML v1.0//EN
CALSCALE:GREGORIAN
METHOD:PUBLISH
X-ORIGINAL-URL:https://www.gcrcf.org
X-WR-CALDESC:Events for Greater Cedar Rapids Community Foundation
REFRESH-INTERVAL;VALUE=DURATION:PT1H
X-Robots-Tag:noindex
X-PUBLISHED-TTL:PT1H
BEGIN:VTIMEZONE
TZID:America/Chicago
BEGIN:DAYLIGHT
TZOFFSETFROM:-0600
TZOFFSETTO:-0500
TZNAME:CDT
DTSTART:20230312T080000
END:DAYLIGHT
BEGIN:STANDARD
TZOFFSETFROM:-0500
TZOFFSETTO:-0600
TZNAME:CST
DTSTART:20231105T070000
END:STANDARD
BEGIN:DAYLIGHT
TZOFFSETFROM:-0600
TZOFFSETTO:-0500
TZNAME:CDT
DTSTART:20240310T080000
END:DAYLIGHT
BEGIN:STANDARD
TZOFFSETFROM:-0500
TZOFFSETTO:-0600
TZNAME:CST
DTSTART:20241103T070000
END:STANDARD
BEGIN:DAYLIGHT
TZOFFSETFROM:-0600
TZOFFSETTO:-0500
TZNAME:CDT
DTSTART:20250309T080000
END:DAYLIGHT
BEGIN:STANDARD
TZOFFSETFROM:-0500
TZOFFSETTO:-0600
TZNAME:CST
DTSTART:20251102T070000
END:STANDARD
END:VTIMEZONE
BEGIN:VEVENT
DTSTART;TZID=America/Chicago:20240803T070000
DTEND;TZID=America/Chicago:20240804T130000
DTSTAMP:20260424T063848
CREATED:20231212T164359Z
LAST-MODIFIED:20231212T164417Z
UID:10001376-1722668400-1722776400@www.gcrcf.org
SUMMARY:Fish-O-Rama
DESCRIPTION:Fish-O-Rama takes place at Robbins Lake in Cedar Rapids the first weekend in August. The lake is stocked with tagged catfish to make for a weekend full of prize-winning fishing! Fish-O-Rama is one of our largest fundraisers of the year. All proceeds from the event stay local and help us provide a safe place for 300 kids and teens to grow into productive\, caring responsible citizens.
URL:https://www.gcrcf.org/event/fish-o-rama/
LOCATION:Robbins Lake\, Ellis Blvd NW\, Cedar Rapids\, IA\, 52405\, United States
CATEGORIES:Nonprofit Calendar
ATTACH;FMTTYPE=image/png:https://www.gcrcf.org/wp-content/uploads/2023/12/FISHORAMA-21-YEARS-Generic.png
ORGANIZER;CN="Boys &amp%3B Girls Clubs of the Corridor":MAILTO:abrown@inmyclub.org
END:VEVENT
BEGIN:VEVENT
DTSTART;TZID=America/Chicago:20240803T100000
DTEND;TZID=America/Chicago:20240803T130000
DTSTAMP:20260424T063848
CREATED:20240620T165039Z
LAST-MODIFIED:20240620T165045Z
UID:10003000-1722679200-1722690000@www.gcrcf.org
SUMMARY:Party At The Arc Park
DESCRIPTION:Our rescheduled date for Party at The Arc Park will be Saturday\, August 3rd. Mark your Calendars!\n\nThe whole community is invited to join us for a Party at The Arc Park\, sponsored by Corda Credit Union.\n\nWhen: Saturday\, August 3rd from 10:00 AM – 1:00 PM\nWhere: Our Arc inclusive playground and our Arc parking lot (680 2nd St. SE)\nCost: FREE and all are welcome.\n\nPlay on our inclusive playground and enjoy games and activities in our parking lot. This event occurs at the same time as the Downtown Farmer’s Market. Go to the market and then come enjoy our new space with our friends from Corda Credit Union.
URL:https://www.gcrcf.org/event/party-at-the-arc-park/
LOCATION:The Arc of East Central Iowa\, 680 2nd Street SE\, Cedar Rapids\, IA\, 52401\, United States
CATEGORIES:Nonprofit Calendar
ATTACH;FMTTYPE=image/jpeg:https://www.gcrcf.org/wp-content/uploads/2024/06/Party-At-The-Arc-Park-fb-image-01.jpg
END:VEVENT
BEGIN:VEVENT
DTSTART;TZID=America/Chicago:20240807T093000
DTEND;TZID=America/Chicago:20240807T110000
DTSTAMP:20260424T063848
CREATED:20240326T170859Z
LAST-MODIFIED:20240326T170907Z
UID:10001484-1723023000-1723028400@www.gcrcf.org
SUMMARY:William Quarton Heritage Society Celebration
DESCRIPTION:Where: Cedar Rapids Public Library\, Whipple Auditorium\, downtown Cedar Rapids \n\n\n\nWhat: A celebration for William Quarton Heritage Society members who are leaving a legacy through philanthropy. Guests will be invited to attend the Block Party following the program. \n\n\n\nWho: William Quarton Heritage Society members.
URL:https://www.gcrcf.org/event/william-quarton-heritage-society-celebration/
LOCATION:Cedar Rapids Public Library\, Beems Auditorium\, 450 Fifth Avenue SE\, Cedar Rapids\, IA\, 52401\, United States
CATEGORIES:Learning & Events
ATTACH;FMTTYPE=image/png:https://www.gcrcf.org/wp-content/uploads/2024/02/75th-Logo.png
END:VEVENT
BEGIN:VEVENT
DTSTART;TZID=America/Chicago:20240807T110000
DTEND;TZID=America/Chicago:20240807T130000
DTSTAMP:20260424T063848
CREATED:20240326T170949Z
LAST-MODIFIED:20240606T164145Z
UID:10001482-1723028400-1723035600@www.gcrcf.org
SUMMARY:75th Anniversary Block Party Celebration
DESCRIPTION:Join us as we celebrate 75 years of strengthening our community through philanthropy!  Enjoy a free lunch\, a short program at noon\, and the unveiling of a new mural on the east side of the Community Foundation’s building!  The event will be held in the parking lot behind the Greater Cedar Rapids Community Foundation at the corner of 3rd Street and 4th Avenue SE\, downtown Cedar Rapids and is open to the public.
URL:https://www.gcrcf.org/event/block-party-celebration/
LOCATION:Greater Cedar Rapids Community Foundation\, 324 3rd Street SE\, Cedar Rapids\, IA\, 52401\, United States
CATEGORIES:Learning & Events,Nonprofit Calendar
ATTACH;FMTTYPE=image/png:https://www.gcrcf.org/wp-content/uploads/2024/03/75th-Logo_Final_EmailSig.png
END:VEVENT
BEGIN:VEVENT
DTSTART;TZID=America/Chicago:20240810T000000
DTEND;TZID=America/Chicago:20240810T235959
DTSTAMP:20260424T063848
CREATED:20240326T171229Z
LAST-MODIFIED:20240605T173528Z
UID:10001483-1723248000-1723334399@www.gcrcf.org
SUMMARY:Free Admission Day to Local Cultural Institutions
DESCRIPTION:In honor of its 75th anniversary\, the Greater Cedar Rapids Community Foundation is hosting a Free Admission Day for you to enjoy a day exploring a variety of arts and cultural sites throughout Linn County while the Community Foundation pays for your admission!  To view participating sites and hours\, visit gcrcf.org. We hope you enjoy the day!
URL:https://www.gcrcf.org/event/free-admission-day-to-local-cultural-institutions/
CATEGORIES:Learning & Events,Nonprofit Calendar
ATTACH;FMTTYPE=image/png:https://www.gcrcf.org/wp-content/uploads/2024/03/75th-Logo_Final_EmailSig.png
END:VEVENT
BEGIN:VEVENT
DTSTART;TZID=America/Chicago:20240814T093000
DTEND;TZID=America/Chicago:20240814T113000
DTSTAMP:20260424T063848
CREATED:20240321T182758Z
LAST-MODIFIED:20240506T195436Z
UID:10001489-1723627800-1723635000@www.gcrcf.org
SUMMARY:Nonprofit Know-How: Library Resources for Nonprofits
DESCRIPTION:Join Reference Librarians Nancy Geiger and Rebecca Vernon with the Cedar Rapids Public Library to hear about the free resources available for nonprofits at the Library\, including exclusive access and a demonstration of the grant search engine Foundation Center Online\, powerful information databases\, and other resources that might be helpful for training and development. We will host small group tours of the building with a stop at the Maker Space\, which offers unique access to new and emerging technology such as 3D printing\, the Nonprofit Resources section\, and information about a variety of meeting spaces available to nonprofits. \n\n\n\nAll nonprofit professionals are encouraged to attend and learn about the resources available at the library and how to access them.
URL:https://www.gcrcf.org/event/nonprofit-know-how-library-resources-for-nonprofits/
LOCATION:Cedar Rapids Public Library\, Beems Auditorium\, 450 Fifth Avenue SE\, Cedar Rapids\, IA\, 52401\, United States
CATEGORIES:Learning & Events
ATTACH;FMTTYPE=image/png:https://www.gcrcf.org/wp-content/uploads/2023/04/Nonprofit-Know-How-Color-01.png
END:VEVENT
BEGIN:VEVENT
DTSTART;TZID=America/Chicago:20240826T173000
DTEND;TZID=America/Chicago:20240826T183000
DTSTAMP:20260424T063848
CREATED:20240108T185510Z
LAST-MODIFIED:20240626T000742Z
UID:10001886-1724693400-1724697000@www.gcrcf.org
SUMMARY:Tours and Treats
DESCRIPTION:Get and up-close view of just what happens inside His Hands Free Clinic. We’ve doubled the amount of patients we’ve been able to help in the past year. Find out how it works and enjoys some beverages and treats. You’ll see why His Hands is such an important service in our community.
URL:https://www.gcrcf.org/event/tours-and-treats/2024-08-26/
CATEGORIES:Nonprofit Calendar
ATTACH;FMTTYPE=image/jpeg:https://www.gcrcf.org/wp-content/uploads/2024/01/His_Hands_7-23_43238-9.jpg
END:VEVENT
BEGIN:VEVENT
DTSTART;TZID=America/Chicago:20240829T160000
DTEND;TZID=America/Chicago:20240829T190000
DTSTAMP:20260424T063848
CREATED:20230719T134419Z
LAST-MODIFIED:20240415T173454Z
UID:10001283-1724947200-1724958000@www.gcrcf.org
SUMMARY:Cultivate Hope Mega Market
DESCRIPTION:The Cultivate Hope Mega Market is a celebration of food\, music\, activities\, and community at Matthew 25‘s Cultivate Hope Urban Farm\, located at 437 G Ave. NW. We feature our locally-grown produce\, and the brick oven is blazing as we create pizzas for you\, your family\, and your friends to enjoy in our beautiful setting. Live music by local musicians will be played throughout the event\, Cultivate Hope Corner Store will be providing free hot dogs\, local vendors will be showcasing their items\, and so much more! \nWe hope to see you all there! \nThis year’s Mega Markets each have a special theme and are held from 4-7 pm on the last Thursday of the month from May-September. \nThis year’s dates are: \nMay 30 – Season Kickoff! \nJune 27 – Red\, White and Blueberries \nJuly 25 – Summer Celebration \nAugust 29 – Flower Power \nSeptember 26 – Harvest Festival \n  \n 
URL:https://www.gcrcf.org/event/cultivate-hope-mega-market/2024-08-29/
LOCATION:Cultivate Hope Urban Farm\, 437 G Ave. NW\, Cedar Rapids\, IA\, 52404\, United States
CATEGORIES:Nonprofit Calendar
ATTACH;FMTTYPE=image/png:https://www.gcrcf.org/wp-content/uploads/2023/07/mega-market960.png
ORGANIZER;CN="Matthew 25":MAILTO:info@hub25.org
END:VEVENT
END:VCALENDAR