BEGIN:VCALENDAR
VERSION:2.0
PRODID:-//Greater Cedar Rapids Community Foundation - ECPv6.15.20//NONSGML v1.0//EN
CALSCALE:GREGORIAN
METHOD:PUBLISH
X-ORIGINAL-URL:https://www.gcrcf.org
X-WR-CALDESC:Events for Greater Cedar Rapids Community Foundation
REFRESH-INTERVAL;VALUE=DURATION:PT1H
X-Robots-Tag:noindex
X-PUBLISHED-TTL:PT1H
BEGIN:VTIMEZONE
TZID:America/Chicago
BEGIN:DAYLIGHT
TZOFFSETFROM:-0600
TZOFFSETTO:-0500
TZNAME:CDT
DTSTART:20240310T080000
END:DAYLIGHT
BEGIN:STANDARD
TZOFFSETFROM:-0500
TZOFFSETTO:-0600
TZNAME:CST
DTSTART:20241103T070000
END:STANDARD
BEGIN:DAYLIGHT
TZOFFSETFROM:-0600
TZOFFSETTO:-0500
TZNAME:CDT
DTSTART:20250309T080000
END:DAYLIGHT
BEGIN:STANDARD
TZOFFSETFROM:-0500
TZOFFSETTO:-0600
TZNAME:CST
DTSTART:20251102T070000
END:STANDARD
BEGIN:DAYLIGHT
TZOFFSETFROM:-0600
TZOFFSETTO:-0500
TZNAME:CDT
DTSTART:20260308T080000
END:DAYLIGHT
BEGIN:STANDARD
TZOFFSETFROM:-0500
TZOFFSETTO:-0600
TZNAME:CST
DTSTART:20261101T070000
END:STANDARD
END:VTIMEZONE
BEGIN:VEVENT
DTSTART;TZID=America/Chicago:20250924T153000
DTEND;TZID=America/Chicago:20250924T173000
DTSTAMP:20260423T012747
CREATED:20250821T150630Z
LAST-MODIFIED:20250821T150640Z
UID:10003094-1758727800-1758735000@www.gcrcf.org
SUMMARY:Greater Connection: Reducing Food Insecurity
DESCRIPTION:Join us for the first event in our new Greater Connection series—designed to bring Community Foundation friends and supporters closer to the pressing needs and opportunities in our community. These special access events offer meaningful\, first-hand insight by showcasing local nonprofits and hearing from local leaders that are making a difference. \n\n\n\nThis engaging afternoon will include: \n\n\n\n\n3:30 p.m. – Welcome and networking\n\n\n\n3:45 p.m. – Program including a panel discussion about the record levels of food insecurity needs across Linn County. Learn how local organizations are working to meet this challenge head-on.\n\n\n\n4:30 p.m. – Reception and guided tours of the HACAP Food Reservoir\n\n\n\n\nPanelists: \n\n\n\n\n\n\n\n\n\nKim GuardadoFood Reservoir DirectorHACAP \n\n\n\n\n\n\n\n\n\nNicole McAlexanderExecutive DirectorSoutheast Linn Community Center \n\n\n\n\n\n\n\n\n\nKatie OatsvallPresident and CEOHorizons\, Meals on Wheels Program \n\n\n\n\n\nRSVP: \n\n\n\nSpace for this unique\, behind-the-scenes access is limited and by invitation only. Please RSVP by Wednesday\, September 17 to donorservices@gcrcf.org or call Christi Smeed at 319.774.2377.  \n 
URL:https://www.gcrcf.org/event/greater-connection-reducing-food-insecurity/
LOCATION:HACAP Food Reservoir\, 1515 Hawkeye Drive\, Hiawatha\, Iowa
CATEGORIES:Learning & Events
END:VEVENT
END:VCALENDAR