BEGIN:VCALENDAR
VERSION:2.0
PRODID:-//Greater Cedar Rapids Community Foundation - ECPv6.15.20//NONSGML v1.0//EN
CALSCALE:GREGORIAN
METHOD:PUBLISH
X-WR-CALNAME:Greater Cedar Rapids Community Foundation
X-ORIGINAL-URL:https://www.gcrcf.org
X-WR-CALDESC:Events for Greater Cedar Rapids Community Foundation
REFRESH-INTERVAL;VALUE=DURATION:PT1H
X-Robots-Tag:noindex
X-PUBLISHED-TTL:PT1H
BEGIN:VTIMEZONE
TZID:America/Chicago
BEGIN:DAYLIGHT
TZOFFSETFROM:-0600
TZOFFSETTO:-0500
TZNAME:CDT
DTSTART:20240310T080000
END:DAYLIGHT
BEGIN:STANDARD
TZOFFSETFROM:-0500
TZOFFSETTO:-0600
TZNAME:CST
DTSTART:20241103T070000
END:STANDARD
BEGIN:DAYLIGHT
TZOFFSETFROM:-0600
TZOFFSETTO:-0500
TZNAME:CDT
DTSTART:20250309T080000
END:DAYLIGHT
BEGIN:STANDARD
TZOFFSETFROM:-0500
TZOFFSETTO:-0600
TZNAME:CST
DTSTART:20251102T070000
END:STANDARD
BEGIN:DAYLIGHT
TZOFFSETFROM:-0600
TZOFFSETTO:-0500
TZNAME:CDT
DTSTART:20260308T080000
END:DAYLIGHT
BEGIN:STANDARD
TZOFFSETFROM:-0500
TZOFFSETTO:-0600
TZNAME:CST
DTSTART:20261101T070000
END:STANDARD
END:VTIMEZONE
BEGIN:VEVENT
DTSTART;TZID=America/Chicago:20250312T093000
DTEND;TZID=America/Chicago:20250312T113000
DTSTAMP:20260419T193230
CREATED:20250212T184715Z
LAST-MODIFIED:20250225T142257Z
UID:10003047-1741771800-1741779000@www.gcrcf.org
SUMMARY:Nonprofit Know-How: UnCharitable Movie for Nonprofits and Boards
DESCRIPTION:Join us for the next Nonprofit Know-How: UnCharitable Movie for Nonprofits and Board Members on Wednesday\, March 12\, from 9:30 – 11:30 a.m. This timely and crucial documentary uncovers the realities of philanthropy and introduces a radical new way of giving. The film explores the idea of freeing charities from outdated constraints to truly change the world. Donors\, nonprofit professionals\, and nonprofit board members will walk away with a new understanding of how we can truly strengthen our communities. \n\n\n\n\nRegister Here\n\n\n\n\nWho: Nonprofit professionals\, nonprofit board members\, and community members \n\n\n\nWhat: Nonprofit Know-How: UnCharitable Movie for Nonprofits and Board Members. A free screening of the documentary. \n\n\n\nWhen: Wednesday\, March 12\, 2025\, 9:30 – 11:30 a.m. \n\n\n\nWhere: Cedar Rapids Public Library\, Beems Auditorium\, 405 5th Ave SE\, Cedar Rapids 52401 \n\n\n\nWhy: To inspire more effective philanthropy in Linn County! \n 
URL:https://www.gcrcf.org/event/nonprofit-know-how-uncharitable-movie-for-nonprofits-and-boards/
LOCATION:Cedar Rapids Public Library\, Beems Auditorium\, 450 Fifth Avenue SE\, Cedar Rapids\, IA\, 52401\, United States
CATEGORIES:Learning & Events
ATTACH;FMTTYPE=image/jpeg:https://www.gcrcf.org/wp-content/uploads/2024/08/Social-Uncharitabl.jpg
END:VEVENT
END:VCALENDAR