BEGIN:VCALENDAR
VERSION:2.0
PRODID:-//Greater Cedar Rapids Community Foundation - ECPv6.15.20//NONSGML v1.0//EN
CALSCALE:GREGORIAN
METHOD:PUBLISH
X-ORIGINAL-URL:https://www.gcrcf.org
X-WR-CALDESC:Events for Greater Cedar Rapids Community Foundation
REFRESH-INTERVAL;VALUE=DURATION:PT1H
X-Robots-Tag:noindex
X-PUBLISHED-TTL:PT1H
BEGIN:VTIMEZONE
TZID:America/Chicago
BEGIN:DAYLIGHT
TZOFFSETFROM:-0600
TZOFFSETTO:-0500
TZNAME:CDT
DTSTART:20240310T080000
END:DAYLIGHT
BEGIN:STANDARD
TZOFFSETFROM:-0500
TZOFFSETTO:-0600
TZNAME:CST
DTSTART:20241103T070000
END:STANDARD
BEGIN:DAYLIGHT
TZOFFSETFROM:-0600
TZOFFSETTO:-0500
TZNAME:CDT
DTSTART:20250309T080000
END:DAYLIGHT
BEGIN:STANDARD
TZOFFSETFROM:-0500
TZOFFSETTO:-0600
TZNAME:CST
DTSTART:20251102T070000
END:STANDARD
BEGIN:DAYLIGHT
TZOFFSETFROM:-0600
TZOFFSETTO:-0500
TZNAME:CDT
DTSTART:20260308T080000
END:DAYLIGHT
BEGIN:STANDARD
TZOFFSETFROM:-0500
TZOFFSETTO:-0600
TZNAME:CST
DTSTART:20261101T070000
END:STANDARD
END:VTIMEZONE
BEGIN:VEVENT
DTSTART;TZID=America/Chicago:20250816T110000
DTEND;TZID=America/Chicago:20250816T140000
DTSTAMP:20260420T064225
CREATED:20250804T142259Z
LAST-MODIFIED:20250804T142334Z
UID:10003091-1755342000-1755352800@www.gcrcf.org
SUMMARY:Fill the Truck for Central Furniture Rescue at Big Grove Brewery
DESCRIPTION:Join Central Furniture Rescue and Big Grove Brewery for a community-powered Fill the Truck event on Saturday\, August 16th\, hosted at Big Grove Cedar Rapids! We’re collecting gently used basic furniture and household items to support individuals and families transitioning out of homelessness.\n𝐁𝐫𝐢𝐧𝐠 𝐚 𝐝𝐨𝐧𝐚𝐭𝐢𝐨𝐧\, 𝐫𝐞𝐜𝐞𝐢𝐯𝐞 𝐚 𝐭𝐡𝐚𝐧𝐤 𝐲𝐨𝐮! Everyone who brings a donation will receive an opportunity to win prizes as our way of saying thanks for supporting your neighbors in need!\n𝐖𝐡𝐚𝐭 𝐭𝐨 𝐛𝐫𝐢𝐧𝐠:Small dressers\, end tables\, coffee tables\, lamps\, waste baskets\, pots & pans\, towels\, bedding\, dish sets/silverware\, can openers\, laundry baskets\, bedding
URL:https://www.gcrcf.org/event/fill-the-truck-for-central-furniture-rescue-at-big-grove-brewery/
LOCATION:Big Grove Brewery\, 170 First Street SW\, Cedar Rapids\, IA\, United States
CATEGORIES:Nonprofit Calendar
ATTACH;FMTTYPE=image/jpeg:https://www.gcrcf.org/wp-content/uploads/2025/08/CFR-Fill-the-Truck-at-Big-Grove-2025.jpg
ORGANIZER;CN="Central Furniture Rescue":MAILTO:susan@centralfurniturerescue.org
END:VEVENT
END:VCALENDAR