BEGIN:VCALENDAR
VERSION:2.0
PRODID:-//Greater Cedar Rapids Community Foundation - ECPv6.15.20//NONSGML v1.0//EN
CALSCALE:GREGORIAN
METHOD:PUBLISH
X-WR-CALNAME:Greater Cedar Rapids Community Foundation
X-ORIGINAL-URL:https://www.gcrcf.org
X-WR-CALDESC:Events for Greater Cedar Rapids Community Foundation
REFRESH-INTERVAL;VALUE=DURATION:PT1H
X-Robots-Tag:noindex
X-PUBLISHED-TTL:PT1H
BEGIN:VTIMEZONE
TZID:America/Chicago
BEGIN:DAYLIGHT
TZOFFSETFROM:-0600
TZOFFSETTO:-0500
TZNAME:CDT
DTSTART:20240310T080000
END:DAYLIGHT
BEGIN:STANDARD
TZOFFSETFROM:-0500
TZOFFSETTO:-0600
TZNAME:CST
DTSTART:20241103T070000
END:STANDARD
BEGIN:DAYLIGHT
TZOFFSETFROM:-0600
TZOFFSETTO:-0500
TZNAME:CDT
DTSTART:20250309T080000
END:DAYLIGHT
BEGIN:STANDARD
TZOFFSETFROM:-0500
TZOFFSETTO:-0600
TZNAME:CST
DTSTART:20251102T070000
END:STANDARD
BEGIN:DAYLIGHT
TZOFFSETFROM:-0600
TZOFFSETTO:-0500
TZNAME:CDT
DTSTART:20260308T080000
END:DAYLIGHT
BEGIN:STANDARD
TZOFFSETFROM:-0500
TZOFFSETTO:-0600
TZNAME:CST
DTSTART:20261101T070000
END:STANDARD
END:VTIMEZONE
BEGIN:VEVENT
DTSTART;TZID=America/Chicago:20250809T080000
DTEND;TZID=America/Chicago:20250810T170000
DTSTAMP:20260422T142555
CREATED:20250528T193433Z
LAST-MODIFIED:20250808T150052Z
UID:10003076-1754726400-1754845200@www.gcrcf.org
SUMMARY:Free Admission Days
DESCRIPTION:The Greater Cedar Rapids Community Foundation is pleased to bring you Free Admission Days\, offering no-cost entry to many of Linn County’s arts and cultural institutions. Following the success of last year’s inaugural event\, launched in celebration of the Community Foundation’s 75th anniversary\, the 2025 event will expand from one day to include two days of free admission on Saturday\, August 9 and Sunday\, August 10\, 2025. Click the link below to find a complete list of participating organizations and hours.  \n\n\n\n\nLearn More
URL:https://www.gcrcf.org/event/free-admission-day/
LOCATION:IA
CATEGORIES:Learning & Events,Nonprofit Calendar
ATTACH;FMTTYPE=image/png:https://www.gcrcf.org/wp-content/uploads/2025/07/Free-Admission-Days-Graphic.png
END:VEVENT
BEGIN:VEVENT
DTSTART;TZID=America/Chicago:20250809T110000
DTEND;TZID=America/Chicago:20250809T140000
DTSTAMP:20260422T142555
CREATED:20240605T031513Z
LAST-MODIFIED:20250512T161546Z
UID:10001888-1754737200-1754748000@www.gcrcf.org
SUMMARY:Touch-A-Truck
DESCRIPTION:ALL are Welcome!\nGet up close and personal with over 40 large vehicles including agricultural\, construction\, military\, first responder\, service and more all in one place! Event will be held at Kirkwood Community College – North Parking Lot of Linn Hall.\n\nFree will donations will be collected to support The Arc of East Central Iowa.\n\nThere will also be food\, music\, activities and more!\nSaturday\, August 9th\n11:00 AM – 2:00 PM  *11:00 – Noon – Will be sensory hour. No lights or sirens will be used during this time.\n\n \nPresented By: The Arc of East Central Iowa.\nEvent Sponsors: UFG Insurance & Van Meter.\nLocation Sponsor: Kirkwood Community College.
URL:https://www.gcrcf.org/event/touch-a-truck/
LOCATION:Kirkwood Community College\, 6301 Kirkwood Blvd SW\, Cedar Rapids\, Iowa\, 52404
CATEGORIES:Nonprofit Calendar
ATTACH;FMTTYPE=image/jpeg:https://www.gcrcf.org/wp-content/uploads/2024/06/FB-event-image-01.jpg
END:VEVENT
END:VCALENDAR