BEGIN:VCALENDAR
VERSION:2.0
PRODID:-//Greater Cedar Rapids Community Foundation - ECPv6.15.20//NONSGML v1.0//EN
CALSCALE:GREGORIAN
METHOD:PUBLISH
X-ORIGINAL-URL:https://www.gcrcf.org
X-WR-CALDESC:Events for Greater Cedar Rapids Community Foundation
REFRESH-INTERVAL;VALUE=DURATION:PT1H
X-Robots-Tag:noindex
X-PUBLISHED-TTL:PT1H
BEGIN:VTIMEZONE
TZID:America/Chicago
BEGIN:DAYLIGHT
TZOFFSETFROM:-0600
TZOFFSETTO:-0500
TZNAME:CDT
DTSTART:20230312T080000
END:DAYLIGHT
BEGIN:STANDARD
TZOFFSETFROM:-0500
TZOFFSETTO:-0600
TZNAME:CST
DTSTART:20231105T070000
END:STANDARD
BEGIN:DAYLIGHT
TZOFFSETFROM:-0600
TZOFFSETTO:-0500
TZNAME:CDT
DTSTART:20240310T080000
END:DAYLIGHT
BEGIN:STANDARD
TZOFFSETFROM:-0500
TZOFFSETTO:-0600
TZNAME:CST
DTSTART:20241103T070000
END:STANDARD
BEGIN:DAYLIGHT
TZOFFSETFROM:-0600
TZOFFSETTO:-0500
TZNAME:CDT
DTSTART:20250309T080000
END:DAYLIGHT
BEGIN:STANDARD
TZOFFSETFROM:-0500
TZOFFSETTO:-0600
TZNAME:CST
DTSTART:20251102T070000
END:STANDARD
END:VTIMEZONE
BEGIN:VEVENT
DTSTART;TZID=America/Chicago:20241005T083000
DTEND;TZID=America/Chicago:20241005T103000
DTSTAMP:20260420T065248
CREATED:20240806T155607Z
LAST-MODIFIED:20240806T155615Z
UID:10003013-1728117000-1728124200@www.gcrcf.org
SUMMARY:Willis Dady's 12th Annual Dady Dash!
DESCRIPTION:Willis Dady’s 12th annual 5k/10k race\, The Dady Dash\, is taking place on October 5th\, 2024 at the Prairie Park Fishery!\nThank you for joining us for this fund-and-awareness raising event to benefit our agency’s mission.\n$30 Registration for the  5k walk\, 5k run\, or 10k run gets you a timed spot in the race!\nIncluded with your registration are:\n\n 	Race Bib\n 	Shoe Chip for timing\n 	Dady Dash T-shirt\n\nFor details regarding race route and award categories and to register\, please see our registration page: https://givebutter.com/DadyDash24
URL:https://www.gcrcf.org/event/willis-dadys-12th-annual-dady-dash/
LOCATION:Prairie Park Fish\, 2125 Otis Rd SE\, Cedar Rapids\, IA\, 52403\, United States
CATEGORIES:Nonprofit Calendar
ATTACH;FMTTYPE=image/jpeg:https://www.gcrcf.org/wp-content/uploads/2024/08/452649302_779775130992388_2321276456004217725_n-2.jpg
ORGANIZER;CN="Willis Dady Homeless Services":MAILTO:allison@willisdady.org
END:VEVENT
BEGIN:VEVENT
DTSTART;TZID=America/Chicago:20241005T100000
DTEND;TZID=America/Chicago:20241005T160000
DTSTAMP:20260420T065248
CREATED:20240909T203332Z
LAST-MODIFIED:20240909T203337Z
UID:10003018-1728122400-1728144000@www.gcrcf.org
SUMMARY:GROWFEST
DESCRIPTION:Fall Harvest at the Kazimour Apple Orchard!\n\nFor Sale:  Apples\, Pumpkins\, Fall-Themed Beverages & Dessert\n\nFun Activities:  Guided Tours\, Picnic in the Orchard\, Cider Station\n\nFor the Kids:  Pumpkin Carving\, Apple Painting\, Gnome Hunt
URL:https://www.gcrcf.org/event/growfest/
LOCATION:Kazimour Farm & Orchard\, 2630 Otis Rd SE\, Cedar Rapids\, IA\, 52403\, United States
CATEGORIES:Nonprofit Calendar
ATTACH;FMTTYPE=image/jpeg:https://www.gcrcf.org/wp-content/uploads/2024/09/GROWFEST.jpg
END:VEVENT
END:VCALENDAR