BEGIN:VCALENDAR
VERSION:2.0
PRODID:-//Greater Cedar Rapids Community Foundation - ECPv6.15.20//NONSGML v1.0//EN
CALSCALE:GREGORIAN
METHOD:PUBLISH
X-ORIGINAL-URL:https://www.gcrcf.org
X-WR-CALDESC:Events for Greater Cedar Rapids Community Foundation
REFRESH-INTERVAL;VALUE=DURATION:PT1H
X-Robots-Tag:noindex
X-PUBLISHED-TTL:PT1H
BEGIN:VTIMEZONE
TZID:America/Chicago
BEGIN:DAYLIGHT
TZOFFSETFROM:-0600
TZOFFSETTO:-0500
TZNAME:CDT
DTSTART:20230312T080000
END:DAYLIGHT
BEGIN:STANDARD
TZOFFSETFROM:-0500
TZOFFSETTO:-0600
TZNAME:CST
DTSTART:20231105T070000
END:STANDARD
BEGIN:DAYLIGHT
TZOFFSETFROM:-0600
TZOFFSETTO:-0500
TZNAME:CDT
DTSTART:20240310T080000
END:DAYLIGHT
BEGIN:STANDARD
TZOFFSETFROM:-0500
TZOFFSETTO:-0600
TZNAME:CST
DTSTART:20241103T070000
END:STANDARD
BEGIN:DAYLIGHT
TZOFFSETFROM:-0600
TZOFFSETTO:-0500
TZNAME:CDT
DTSTART:20250309T080000
END:DAYLIGHT
BEGIN:STANDARD
TZOFFSETFROM:-0500
TZOFFSETTO:-0600
TZNAME:CST
DTSTART:20251102T070000
END:STANDARD
END:VTIMEZONE
BEGIN:VEVENT
DTSTART;TZID=America/Chicago:20240425T090000
DTEND;TZID=America/Chicago:20240425T200000
DTSTAMP:20260419T090255
CREATED:20240112T194513Z
LAST-MODIFIED:20240112T194522Z
UID:10001459-1714035600-1714075200@www.gcrcf.org
SUMMARY:Junior Achievement of Eastern Iowa Stock Market Challenge®
DESCRIPTION:Junior Achievement of Eastern Iowa’s (JAEI) 5th Annual JA Stock Market Challenge® event allows participants to experience the fast pace\, cut throat day in the life of a stock market trader. The Stock Market Challenge is a technology based simulation of the stock market in which every 60 seconds represents a day of trading. Beginning with a hypothetical account balance of $500\,000\, the stakes are high and the competition is fierce. There will be a straight forward student competition during the day and a no holds barred adult version in the evening.\n\nApproximately 150 high school students will have the option to complete five lessons on investments before competing in teams of four at the student JA Stock Market Challenge earlier in the day from 9:00 a.m. to 11:00 a.m.\, allowing the students to experience all the rush with none of the risk. Students will also have a chance to review their results and analyze the impact of their trades after the event. Student team registration is open to any 9th-12th grade students.
URL:https://www.gcrcf.org/event/junior-achievement-of-eastern-iowa-stock-market-challenge/
LOCATION:The Olympic South Side Theater\, 1202 3rd St SE #200\, Cedar Rapids\, IA\, 52401\, United States
CATEGORIES:Nonprofit Calendar
ATTACH;FMTTYPE=image/png:https://www.gcrcf.org/wp-content/uploads/2024/01/2022-Brand-Update-SMC-Logo.png
ORGANIZER;CN="Junior Achievement of Eastern Iowa":MAILTO:edisterhoft@jaeasterniowa.org
END:VEVENT
BEGIN:VEVENT
DTSTART;TZID=America/Chicago:20240425T160000
DTEND;TZID=America/Chicago:20240425T200000
DTSTAMP:20260419T090255
CREATED:20240214T143733Z
LAST-MODIFIED:20240214T143740Z
UID:10001463-1714060800-1714075200@www.gcrcf.org
SUMMARY:Flock to the Flights Pubcrawl Fundraiser for CRPF
DESCRIPTION:2nd Annual Flock to the Flights Pub CrawlThursday\, April 25 from 4:00pm – 8:00pm\n \n\n\n\nJoin CRPF for the 2nd annual Flock to the Flights Pub Crawl! This event will occur April 25\, 2024 from 4:00pm-8:00pm with stops at Big Grove Brewery\, Clock House Brewing\, and Iowa Brewing Company. An estimated 100 participants will enjoy local beer\, a cool t-shirt\, and fun games along the trail. \nInterested in joining the fun? Purchase your participant t-shirt (pictured on the right) ASAP\, which serves as your “ticket” for the event! T-shirts cost $35 and can be purchased at the crparksfoundation.org ‘Shop’ or here https://cedar-rapids-parks-foundation.square.site through April 1!  \nInterested in becoming an event sponsor? Sponsorships are valued at $250 and your name/logo will be proudly displayed on the Pub Crawl t-shirt and brewery passport. Sponsorship acknowledgements will occur across CRPF social media\, e-communications\, and at the event. Contact crparksfoundation@gmail.com if interested in becoming a sponsor
URL:https://www.gcrcf.org/event/flock-to-the-flights-pubcrawl-fundraiser-for-crpf/
LOCATION:IA
CATEGORIES:Nonprofit Calendar
ATTACH;FMTTYPE=image/png:https://www.gcrcf.org/wp-content/uploads/2024/02/Screenshot-2024-02-06-at-11.22.19 AM.png
END:VEVENT
END:VCALENDAR