BEGIN:VCALENDAR
VERSION:2.0
PRODID:-//Greater Cedar Rapids Community Foundation - ECPv6.15.20//NONSGML v1.0//EN
CALSCALE:GREGORIAN
METHOD:PUBLISH
X-ORIGINAL-URL:https://www.gcrcf.org
X-WR-CALDESC:Events for Greater Cedar Rapids Community Foundation
REFRESH-INTERVAL;VALUE=DURATION:PT1H
X-Robots-Tag:noindex
X-PUBLISHED-TTL:PT1H
BEGIN:VTIMEZONE
TZID:America/Chicago
BEGIN:DAYLIGHT
TZOFFSETFROM:-0600
TZOFFSETTO:-0500
TZNAME:CDT
DTSTART:20230312T080000
END:DAYLIGHT
BEGIN:STANDARD
TZOFFSETFROM:-0500
TZOFFSETTO:-0600
TZNAME:CST
DTSTART:20231105T070000
END:STANDARD
BEGIN:DAYLIGHT
TZOFFSETFROM:-0600
TZOFFSETTO:-0500
TZNAME:CDT
DTSTART:20240310T080000
END:DAYLIGHT
BEGIN:STANDARD
TZOFFSETFROM:-0500
TZOFFSETTO:-0600
TZNAME:CST
DTSTART:20241103T070000
END:STANDARD
BEGIN:DAYLIGHT
TZOFFSETFROM:-0600
TZOFFSETTO:-0500
TZNAME:CDT
DTSTART:20250309T080000
END:DAYLIGHT
BEGIN:STANDARD
TZOFFSETFROM:-0500
TZOFFSETTO:-0600
TZNAME:CST
DTSTART:20251102T070000
END:STANDARD
END:VTIMEZONE
BEGIN:VEVENT
DTSTART;TZID=America/Chicago:20240423T080000
DTEND;TZID=America/Chicago:20240423T170000
DTSTAMP:20260423T220926
CREATED:20240424T161035Z
LAST-MODIFIED:20240424T161040Z
UID:10001495-1713859200-1713891600@www.gcrcf.org
SUMMARY:Catherine McAuley Center Pickleball Tournament
DESCRIPTION:The Catherine McAuley Center is hosting a round-robin play pickleball tournament for players of all skill levels. Games will be scheduled throughout the day; players will be notified of their time slot (of approximately 3 hours) the week prior.\n\nCost is $100 per team of 2. Breakfast and/or lunch and bottled water will be provided.\n\nTrophies will be awarded to 1st\, 2nd\, and 3rd place winners in each division:\n\n 	Men’s beginner\, intermediate\, advanced\n 	Women’s beginner\, intermediate\, advanced\n 	Mixed beginner\, intermediate/advanced
URL:https://www.gcrcf.org/event/catherine-mcauley-center-pickleball-tournament/
LOCATION:Smithfield Tennis & Pickleball Center\, 3511 18th Ave SW\, Cedar Rapids\, IA\, 52404\, United States
CATEGORIES:Nonprofit Calendar
ATTACH;FMTTYPE=image/png:https://www.gcrcf.org/wp-content/uploads/2024/04/Event-Header.png
ORGANIZER;CN="Catherine McAuley Center":MAILTO:haley@cmc-cr.org
END:VEVENT
END:VCALENDAR